Workbook

Sheet Matas Group P&L and KPIs
B1: MATAS GROUP | D1: Original | E1: Original | F1: Reclas. | G1: Spec. Items | H1: Adjusted | I1: Original | J1: Reclas. | K1: Spec. Items | L1: Adjusted | M1: Original | N1: Reclas. | O1: Spec. Items | P1: Adjusted | Q1: Original | R1: Reclas. | S1: Spec. Items | T1: Adjusted | U1: Original | V1: Reclas. | W1: Spec. Items | X1: Adjusted | Z1: Original | AA1: Reclas. | AB1: Spec. Items | AC1: Adjusted | AD1: Original | AE1: Reclas. | AF1: Spec. Items | AG1: Adjusted | AH1: Original | AI1: Reclas. | AJ1: Spec. Items | AK1: Adjusted | AL1: Original | AM1: Reclas. | AN1: Spec. Items | AO1: Adjusted | AP1: Original | AQ1: Reclas. | AR1: Spec. Items | AS1: Adjusted | AU1: Original | AV1: Reclas. | AW1: Spec. Items | AX1: Adjusted | AY1: Original | AZ1: Reclas. | BA1: Spec. Items | BB1: Adjusted | BC1: Original | BD1: Reclas. | BE1: Spec. Items | BF1: Adjusted | BG1: Original | BH1: Reclas. | BI1: Spec. Items | BJ1: Adjusted | BK1: Original | BL1: Reclas. | BM1: Spec. Items | BN1: Adjusted
B2: Statement of comprehensive income for the year ended 31 March | D2: 2020/21 | E2: 2021/22 | I2: =E2 -> 2021/22 | M2: =I2 -> 2021/22 | Q2: =M2 -> 2021/22 | U2: =Q2 -> 2021/22 | Z2: 2022/23 | AD2: =Z2 -> 2022/23 | AH2: =AD2 -> 2022/23 | AL2: =AH2 -> 2022/23 | AP2: =AL2 -> 2022/23 | AU2: 2023/24 | AY2: =AU2 -> 2023/24 | BC2: =AY2 -> 2023/24 | BG2: =BC2 -> 2023/24 | BK2: =BG2 -> 2023/24 | BP2: 2024/25 | BQ2: =BP2 -> 2024/25 | BR2: =BQ2 -> 2024/25 | BS2: =BR2 -> 2024/25 | BT2: =BS2 -> 2024/25 | BV2: 2025/26 | BW2: =BV2 -> 2025/26 | BX2: =BW2 -> 2025/26 | BY2: =BX2 -> 2025/26 | BZ2: =BY2 -> 2025/26
B3: DKK million | D3: Q1 | E3: Q1 | I3: Q2 | M3: Q3 * | Q3: Q4 | U3: FY * | Z3: Q1 | AD3: Q2 | AH3: Q3 | AL3: Q4 | AP3: FY | AU3: Q1 | AY3: Q2 | BC3: Q3 | BG3: Q4 * | BK3: FY | BP3: Q1 | BQ3: Q2 | BR3: Q3 | BS3: Q4 | BT3: FY | BV3: Q1 | BW3: Q2 | BX3: Q3 | BY3: Q4 | BZ3: FY
B5: Revenue | D5: 946.8 | E5: 1021.3 | H5: =SUM(E5:G5) -> 1021.3 | I5: 973.9 | L5: =SUM(I5:K5) -> 973.9 | M5: 1378.4 | P5: =SUM(M5:O5) -> 1378.4 | Q5: 970.6 | T5: =SUM(Q5:S5) -> 970.6 | U5: 4344.2 | X5: =SUM(U5:W5) -> 4344.2 | Z5: 1053.5 | AC5: =SUM(Z5:AB5) -> 1053.5 | AD5: 989.2 | AG5: =SUM(AD5:AF5) -> 989.2 | AH5: 1396.2 | AK5: =SUM(AH5:AJ5) -> 1396.2 | AL5: 1050.7 | AO5: =SUM(AL5:AN5) -> 1050.7 | AP5: 4489.6 | AS5: =SUM(AP5:AR5) -> 4489.6 | AU5: 1150 | AX5: 1150 | AY5: 1285.4 | BB5: 1285.4 | BC5: 2508 | BF5: 2508 | BG5: =BK5-AU5-AY5-BC5 -> 1757.6 | BJ5: =SUM(BG5:BI5) -> 1757.6 | BK5: 6701 | BN5: =SUM(BK5:BM5) -> 6701 | BP5: 1956 | BQ5: 1851 | BR5: 2694 | BS5: 1878 | BT5: =SUM(BP5:BS5) -> 8379 | BV5: 2074 | BW5: 1945 | BX5: 2776 | BY5: 1981 | BZ5: =SUM(BV5:BY5) -> 8776
B6: Cost of goods sold | D6: -526.6 | E6: -568.2 | F6: 14.703052 | H6: =SUM(E6:G6) -> -553.49695 | I6: -543 | J6: 13.484774 | L6: =SUM(I6:K6) -> -529.51523 | M6: -764.7 | N6: 14.850639 | O6: -20.333417 | P6: =SUM(M6:O6) -> -770.18278 | Q6: -502.3 | R6: 11.458255 | T6: =SUM(Q6:S6) -> -490.84174 | U6: -2378.2 | V6: 54.49672 | W6: -20.333417 | X6: =SUM(U6:W6) -> -2344.0367 | Z6: -587.4 | AA6: 14.6 | AC6: =SUM(Z6:AB6) -> -572.8 | AD6: -546.3 | AE6: 12.2 | AG6: =SUM(AD6:AF6) -> -534.1 | AH6: -775.3 | AI6: 20.8 | AK6: =SUM(AH6:AJ6) -> -754.5 | AL6: -566.2 | AM6: 14.3 | AO6: =SUM(AL6:AN6) -> -551.9 | AP6: -2475.2 | AQ6: 61.96828 | AS6: =SUM(AP6:AR6) -> -2413.2317 | AU6: -643.9 | AV6: 16.1 | AX6: -627.8 | AY6: -712.8 | AZ6: 23.7 | BB6: -689.1 | BC6: -1412.5 | BD6: 19.7 | BF6: -1392.8 | BG6: =BK6-AU6-AY6-BC6 -> -934.8 | BH6: =BL6-AV6-AZ6-BD6 -> 21.5 | BJ6: =SUM(BG6:BI6) -> -913.3 | BK6: -3704 | BL6: 81 | BN6: =SUM(BK6:BM6) -> -3623 | BP6: -1053 | BQ6: -999 | BR6: -1449 | BS6: -1008 | BT6: =SUM(BP6:BS6) -> -4509 | BV6: -1119 | BW6: -1056 | BX6: -1533 | BY6: -1131 | BZ6: =SUM(BV6:BY6) -> -4839
B7: Gross profit | D7: =SUM(D5:D6) -> 420.2 | E7: =SUM(E5:E6) -> 453.1 | F7: =SUM(F5:F6) -> 14.703052 | G7: =SUM(G5:G6) -> 0 | H7: =SUM(H5:H6) -> 467.80305 | I7: =SUM(I5:I6) -> 430.9 | J7: =SUM(J5:J6) -> 13.484774 | K7: =SUM(K5:K6) -> 0 | ... X7: =SUM(X5:X6) -> 2000.1633 | Z7: 466.1 | AA7: 14.6 | AB7: 0 | AC7: =SUM(AC5:AC6) -> 480.7 | AD7: 442.9 | AE7: 12.2 | AF7: 0 | AG7: =SUM(AG5:AG6) -> 455.1 | AH7: 620.9 | AI7: 20.8 | AJ7: 0 | AK7: =SUM(AK5:AK6) -> 641.7 | AL7: 484.5 | AM7: 14.3 | AN7: 0 | AO7: =SUM(AO5:AO6) -> 498.8 | AP7: =SUM(AP5:AP6) -> 2014.4 | AQ7: =SUM(AQ5:AQ6) -> 61.96828 | AR7: =SUM(AR5:AR6) -> 0 | AS7: =SUM(AS5:AS6) -> 2076.3683 | AU7: 506.1 | AV7: 16.1 | AW7: 0 | AX7: 522.2 | AY7: 572.6 | AZ7: 23.7 | BA7: 0 | BB7: 596.3 | BC7: 1095.5 | BD7: 19.7 | BE7: 0 | BF7: 1115.2 | BG7: =BG5+BG6 -> 822.8 | BH7: =BH5+BH6 -> 21.5 | BI7: =BI5+BI6 -> 0 | BJ7: =BJ5+BJ6 -> 844.3 | BK7: =SUM(BK5:BK6) -> 2997 | BL7: =SUM(BL5:BL6) -> 81 | BM7: =SUM(BM5:BM6) -> 0 | BN7: =SUM(BN5:BN6) -> 3078 | BP7: =SUM(BP5:BP6) -> 903 | BQ7: =SUM(BQ5:BQ6) -> 852 | BR7: =SUM(BR5:BR6) -> 1245 | BS7: =SUM(BS5:BS6) -> 870 | BT7: =SUM(BT5:BT6) -> 3870 | BV7: =SUM(BV5:BV6) -> 955 | BW7: =SUM(BW5:BW6) -> 889 | BX7: =SUM(BX5:BX6) -> 1243 | BY7: =SUM(BY5:BY6) -> 850 | BZ7: =SUM(BZ5:BZ6) -> 3937
B9: Other external costs | D9: -63.3 | E9: -68.5 | F9: =-F6 -> -14.703052 | H9: =SUM(E9:G9) -> -83.203052 | I9: -69.2 | J9: =-J6 -> -13.484774 | L9: =SUM(I9:K9) -> -82.684774 | M9: -98.3 | N9: =-N6 -> -14.850639 | O9: 2.9 | P9: =SUM(M9:O9) -> -110.25064 | Q9: -96.3 | R9: =-R6 -> -11.458255 | S9: 0.4 | T9: =SUM(Q9:S9) -> -107.35825 | U9: -332.3 | V9: =-V6 -> -54.49672 | W9: 3.3 | X9: =SUM(U9:W9) -> -383.49672 | Z9: -77.5 | AA9: -16.8 | AB9: 4.8 | AC9: =SUM(Z9:AB9) -> -89.5 | AD9: -86.4 | AE9: -13.4 | AG9: =SUM(AD9:AF9) -> -99.8 | AH9: -105.3 | AI9: -19.2 | AK9: =SUM(AH9:AJ9) -> -124.5 | AL9: -115.7 | AM9: -15.4 | AO9: =SUM(AL9:AN9) -> -131.1 | AP9: -384.9 | AQ9: =-AQ6-AQ11 -> -64.853858 | AR9: 4.8 | AS9: =SUM(AP9:AR9) -> -444.95386 | AU9: -111.4 | AV9: -17.1 | AW9: 21.149533 | AX9: -107.35047 | AY9: -152.2 | AZ9: -25 | BA9: 27.1 | BB9: -150.1 | BC9: -274.4 | BD9: -22.1 | BE9: 17 | BF9: -279.5 | BG9: =BK9-AU9-AY9-BC9 -> -248 | BH9: =BL9-AV9-AZ9-BD9 -> -20.8 | BI9: =BM9-AW9-BA9-BE9 -> 13.750467 | BJ9: =SUM(BG9:BI9) -> -255.04953 | BK9: -786 | BL9: -85 | BM9: 79 | BN9: =SUM(BK9:BM9) -> -792 | BP9: -216 | BQ9: -235 | BR9: -325 | BS9: -245 | BT9: =SUM(BP9:BS9) -> -1021 | BV9: -237 | BW9: -249 | BX9: -347 | BY9: -248 | BZ9: =SUM(BV9:BY9) -> -1081
B10: Staff costs | D10: -185.6 | E10: -198.9 | H10: =SUM(E10:G10) -> -198.9 | I10: -198.7 | K10: 2.616782 | L10: =SUM(I10:K10) -> -196.08322 | M10: -214.5 | P10: =SUM(M10:O10) -> -214.5 | Q10: -212 | S10: 7.416635 | T10: =SUM(Q10:S10) -> -204.58336 | U10: -824.1 | W10: 10.033417 | X10: =SUM(U10:W10) -> -814.06658 | Z10: -201.9 | AC10: =SUM(Z10:AB10) -> -201.9 | AD10: -196.5 | AG10: =SUM(AD10:AF10) -> -196.5 | AH10: -219.7 | AK10: =SUM(AH10:AJ10) -> -219.7 | AL10: -207.2 | AO10: =SUM(AL10:AN10) -> -207.2 | AP10: -825.3 | AS10: =SUM(AP10:AR10) -> -825.3 | AU10: -214.9 | AX10: -214.9 | AY10: -282.3 | AZ10: -1.2 | BA10: 12.029467 | BB10: -271.47053 | BC10: -416.6 | BD10: -3.6 | BE10: 2.603679 | BF10: -417.59632 | BG10: =BK10-AU10-AY10-BC10 -> -418.2 | BH10: =BL10-AV10-AZ10-BD10 -> 4.8 | BI10: =BM10-AW10-BA10-BE10 -> 18.366854 | BJ10: =SUM(BG10:BI10) -> -395.03315 | BK10: -1332 | BM10: 33 | BN10: =SUM(BK10:BM10) -> -1299 | BP10: -399 | BQ10: -389 | BR10: -451 | BS10: -415 | BT10: =SUM(BP10:BS10) -> -1654 | BV10: -422 | BW10: -404 | BX10: -439 | BY10: -381 | BZ10: =SUM(BV10:BY10) -> -1646
B11: Other operating income and expenses, net | H11: =SUM(E11:G11) -> 0 | L11: =SUM(I11:K11) -> 0 | P11: =SUM(M11:O11) -> 0 | T11: =SUM(Q11:S11) -> 0 | X11: =SUM(U11:W11) -> 0 | AA11: 2.2 | AC11: =SUM(Z11:AB11) -> 2.2 | AE11: 1.2 | AG11: =SUM(AD11:AF11) -> 1.2 | AI11: -1.6 | AK11: =SUM(AH11:AJ11) -> -1.6 | AM11: 1.1 | AO11: =SUM(AL11:AN11) -> 1.1 | AQ11: 2.885578 | AS11: =SUM(AP11:AR11) -> 2.885578 | AV11: 1 | AX11: 1 | AZ11: 2.5 | BB11: 2.5 | BD11: 6 | BF11: 6 | BG11: =BK11-AU11-AY11-BC11 -> 25 | BH11: =BL11-AV11-AZ11-BD11 -> -5.5 | BI11: =BM11-AW11-BA11-BE11 -> -10 | BJ11: =SUM(BG11:BI11) -> 9.5 | BK11: 25 | BL11: 4 | BM11: -10 | BN11: =SUM(BK11:BM11) -> 19 | BP11: 5 | BQ11: 5 | BR11: 5 | BS11: 6 | BT11: =SUM(BP11:BS11) -> 21 | BV11: 6 | BW11: 5 | BX11: 8 | BY11: 5 | BZ11: =SUM(BV11:BY11) -> 24
B12: EBITDA before special items | F12: =SUM(F7:F11) -> 0 | G12: =SUM(G7:G11) -> 0 | H12: =SUM(H7:H11) -> 185.7 | J12: =SUM(J7:J11) -> 0 | K12: =SUM(K7:K11) -> 2.616782 | L12: =SUM(L7:L11) -> 165.61678 | N12: =SUM(N7:N11) -> 0 | O12: =SUM(O7:O11) -> -17.433417 | P12: =SUM(P7:P11) -> 283.46658 | R12: =SUM(R7:R11) -> 0 | S12: =SUM(S7:S11) -> 7.816635 | T12: =SUM(T7:T11) -> 167.81664 | V12: =SUM(V7:V11) -> 0 | W12: =SUM(W7:W11) -> -7 | X12: =SUM(X7:X11) -> 802.6 | AA12: 0 | AB12: 4.8 | AC12: =SUM(AC7:AC11) -> 191.5 | AE12: 0 | AF12: 0 | AG12: =SUM(AG7:AG11) -> 160 | AI12: 0 | AJ12: 0 | AK12: =SUM(AK7:AK11) -> 295.9 | AM12: 0 | AN12: 0 | AO12: =SUM(AO7:AO11) -> 161.6 | AQ12: 0 | AR12: 4.8 | AS12: =SUM(AS7:AS11) -> 809 | AV12: 0 | AW12: 21.149533 | AX12: 200.94953 | AZ12: 0 | BA12: 39.129467 | BB12: 177.22947 | BC12: 404.5 | BD12: 0 | BE12: 19.603679 | BF12: 424.10368 | BH12: =SUM(BH7:BH11) -> 0 | BI12: =SUM(BI7:BI11) -> 22.117321 | BJ12: =SUM(BJ7:BJ11) -> 203.71732 | BL12: 0 | BM12: 102 | BN12: =SUM(BN7:BN11) -> 1006 | BP12: =SUM(BP7:BP11) -> 293 | BQ12: =SUM(BQ7:BQ11) -> 233 | BR12: =SUM(BR7:BR11) -> 474 | BS12: =SUM(BS7:BS11) -> 216 | BT12: =SUM(BT7:BT11) -> 1216 | BV12: =SUM(BV7:BV11) -> 302 | BW12: =SUM(BW7:BW11) -> 241 | BX12: =SUM(BX7:BX11) -> 465 | BY12: =SUM(BY7:BY11) -> 226 | BZ12: =SUM(BZ7:BZ11) -> 1234
B14: Special items | G14: 0 | H14: =SUM(E14:G14) -> 0 | K14: -2.616782 | L14: =SUM(I14:K14) -> -2.616782 | O14: 17.433417 | P14: =SUM(M14:O14) -> 17.433417 | S14: -7.816635 | T14: =SUM(Q14:S14) -> -7.816635 | W14: 7 | X14: =SUM(U14:W14) -> 7 | AB14: -4.8 | AC14: =SUM(Z14:AB14) -> -4.8 | AF14: 0 | AG14: =SUM(AD14:AF14) -> 0 | AJ14: 0 | AK14: =SUM(AH14:AJ14) -> 0 | AN14: 0 | AO14: =SUM(AL14:AN14) -> 0 | AR14: -4.8 | AS14: =SUM(AP14:AR14) -> -4.8 | AW14: -21.149533 | AX14: -21.149533 | BA14: -39.129467 | BB14: -39.129467 | BC14: 0 | BE14: -19.603679 | BF14: -19.603679 | BH14: 0 | BI14: =BM14-AW14-BA14-BE14 -> -22.117321 | BJ14: =SUM(BG14:BI14) -> -22.117321 | BM14: -102 | BN14: =SUM(BK14:BM14) -> -102 | BP14: -17 | BQ14: 5 | BR14: -1 | BS14: -14 | BT14: =SUM(BP14:BS14) -> -27 | BV14: -5 | BW14: -11 | BX14: -22 | BY14: -18 | BZ14: =SUM(BV14:BY14) -> -56
B15: EBITDA | D15: =SUM(D7:D11) -> 171.3 | E15: =SUM(E7:E11) -> 185.7 | F15: =SUM(F12:F14) -> 0 | G15: =SUM(G12:G14) -> 0 | H15: =SUM(H12:H14) -> 185.7 | I15: =SUM(I7:I11) -> 163 | J15: =SUM(J12:J14) -> 0 | K15: =SUM(K12:K14) -> 0 | L15: =SUM(L12:L14) -> 163 | M15: =SUM(M7:M11) -> 300.9 | N15: =SUM(N12:N14) -> 0 | O15: =SUM(O12:O14) -> 0 | P15: =SUM(P12:P14) -> 300.9 | Q15: =SUM(Q7:Q11) -> 160 | R15: =SUM(R12:R14) -> 0 | S15: =SUM(S12:S14) -> 0 | T15: =SUM(T12:T14) -> 160 | U15: =SUM(U7:U11) -> 809.6 | V15: =SUM(V12:V14) -> 0 | W15: =SUM(W12:W14) -> 0 | X15: =SUM(X12:X14) -> 809.6 | Z15: 186.7 | AA15: 0 | AB15: 0 | AC15: =SUM(AC12:AC14) -> 186.7 | AD15: 160 | AE15: 0 | AF15: 0 | AG15: =SUM(AG12:AG14) -> 160 | AH15: 295.9 | AI15: 0 | AJ15: 0 | AK15: =SUM(AK12:AK14) -> 295.9 | AL15: 161.6 | AM15: 0 | AN15: 0 | AO15: =SUM(AO12:AO14) -> 161.6 | AP15: 804.2 | AQ15: 0 | AR15: 0 | AS15: =SUM(AS12:AS14) -> 804.2 | AU15: 179.8 | AV15: 0 | AW15: 0 | AX15: 179.8 | AY15: 138.1 | AZ15: 0 | BA15: 0 | BB15: 138.1 | BC15: 404.5 | BD15: 0 | BE15: 0 | BF15: 404.5 | BG15: =SUM(BG7:BG14) -> 181.6 | BH15: =SUM(BH12:BH14) -> 0 | BI15: =SUM(BI12:BI14) -> 0 | BJ15: =SUM(BJ12:BJ14) -> 181.6 | BK15: 904 | BL15: 0 | BM15: 0 | BN15: =SUM(BN12:BN14) -> 904 | BP15: =SUM(BP12:BP14) -> 276 | BQ15: =SUM(BQ12:BQ14) -> 238 | BR15: =SUM(BR12:BR14) -> 473 | BS15: =SUM(BS12:BS14) -> 202 | BT15: =SUM(BT12:BT14) -> 1189 | BV15: =SUM(BV12:BV14) -> 297 | BW15: =SUM(BW12:BW14) -> 230 | BX15: =SUM(BX12:BX14) -> 443 | BY15: =SUM(BY12:BY14) -> 208 | BZ15: =SUM(BZ12:BZ14) -> 1178
B17: Depreciation, amortisation and impairment | D17: -99.2 | E17: -107.7 | H17: =SUM(E17:G17) -> -107.7 | I17: -106.3 | L17: =SUM(I17:K17) -> -106.3 | M17: -107.2 | P17: =SUM(M17:O17) -> -107.2 | Q17: 113.9 | T17: =SUM(Q17:S17) -> 113.9 | U17: -421.3 | X17: =SUM(U17:W17) -> -421.3 | Z17: -89.1 | AC17: =SUM(Z17:AB17) -> -89.1 | AD17: -86.7 | AG17: =SUM(AD17:AF17) -> -86.7 | AH17: -94.5 | AK17: =SUM(AH17:AJ17) -> -94.5 | AL17: -110.9 | AO17: =SUM(AL17:AN17) -> -110.9 | AP17: -381.1 | AS17: =SUM(AP17:AR17) -> -381.1 | AU17: -91.1 | AX17: -91.1 | AY17: -113.1 | BB17: -113.1 | BC17: -155.1 | BF17: -155.1 | BG17: =BK17-AU17-AY17-BC17 -> -165.7 | BJ17: =SUM(BG17:BI17) -> -165.7 | BK17: -525 | BN17: =SUM(BK17:BM17) -> -525 | BP17: -158 | BQ17: -157 | BR17: -156 | BS17: -153 | BT17: =SUM(BP17:BS17) -> -624 | BV17: -161 | BW17: -160 | BX17: -166 | BY17: -177 | BZ17: =SUM(BV17:BY17) -> -664
B18: Operating profit/EBIT | D18: =SUM(D15:D17) -> 72.1 | E18: =SUM(E15:E17) -> 78 | F18: =SUM(F15:F17) -> 0 | G18: =SUM(G15:G17) -> 0 | H18: =SUM(H15:H17) -> 78 | I18: =SUM(I15:I17) -> 56.7 | J18: =SUM(J15:J17) -> 0 | K18: =SUM(K15:K17) -> 0 | ... X18: =SUM(X15:X17) -> 388.3 | Z18: 97.6 | AA18: 0 | AB18: 0 | AC18: =SUM(AC15:AC17) -> 97.6 | AD18: 73.3 | AE18: 0 | AF18: 0 | AG18: =SUM(AG15:AG17) -> 73.3 | AH18: 201.4 | AI18: 0 | AJ18: 0 | AK18: =SUM(AK15:AK17) -> 201.4 | AL18: 50.7 | AM18: 0 | AN18: 0 | AO18: =SUM(AO15:AO17) -> 50.7 | AP18: 423.1 | AQ18: 0 | AR18: 0 | AS18: =SUM(AS15:AS17) -> 423.1 | AU18: 88.7 | AV18: 0 | AW18: 0 | AX18: 88.7 | AY18: 25 | AZ18: 0 | BA18: 0 | BB18: 25 | BC18: 249.4 | BD18: 0 | BE18: 0 | BF18: 249.4 | BG18: =SUM(BG15:BG17) -> 15.9 | BH18: =SUM(BH15:BH17) -> 0 | BI18: =SUM(BI15:BI17) -> 0 | BJ18: =SUM(BJ15:BJ17) -> 15.9 | BK18: 379 | BL18: 0 | BM18: 0 | BN18: =SUM(BN15:BN17) -> 379 | BP18: =SUM(BP15:BP17) -> 118 | BQ18: =SUM(BQ15:BQ17) -> 81 | BR18: =SUM(BR15:BR17) -> 317 | BS18: 49 | BT18: 565 | BV18: =SUM(BV15:BV17) -> 136 | BW18: =SUM(BW15:BW17) -> 70 | BX18: =SUM(BX15:BX17) -> 277 | BY18: =SUM(BY15:BY17) -> 31 | BZ18: =SUM(BZ15:BZ17) -> 514
B20: Share of profit in ass. Companies | D20: 0.159736 | E20: -0.05711 | H20: =SUM(E20:G20) -> -0.05711 | I20: -0.119804 | L20: =SUM(I20:K20) -> -0.119804 | M20: -0.029766 | P20: =SUM(M20:O20) -> -0.029766 | Q20: -4.216406 | T20: =SUM(Q20:S20) -> -4.216406 | U20: -4.6 | X20: =SUM(U20:W20) -> -4.6 | Z20: 0.2 | AC20: =SUM(Z20:AB20) -> 0.2 | AD20: -5.3 | AG20: =SUM(AD20:AF20) -> -5.3 | AH20: 0.2 | AK20: =SUM(AH20:AJ20) -> 0.2 | AL20: 0 | AO20: =SUM(AL20:AN20) -> 0 | AP20: -4.9 | AS20: =SUM(AP20:AR20) -> -4.9 | AU20: 0.1 | AX20: 0.1 | AY20: 0.124336 | BB20: 0.124336 | BC20: 0.192198 | BF20: 0.192198 | BG20: =BK20-AU20-AY20-BC20 -> 0.583466 | BJ20: =SUM(BG20:BI20) -> 0.583466 | BK20: 1 | BN20: =SUM(BK20:BM20) -> 1 | BP20: 0 | BQ20: 0 | BR20: 0 | BS20: 1 | BT20: =SUM(BP20:BS20) -> 1 | BV20: 0 | BW20: 0 | BX20: 0 | BY20: 1 | BZ20: =SUM(BV20:BY20) -> 1
B21: Financial income | D21: 0.090992 | E21: 0.015643 | H21: =SUM(E21:G21) -> 0.015643 | I21: 0.024891 | L21: =SUM(I21:K21) -> 0.024891 | M21: 5.11471 | P21: =SUM(M21:O21) -> 5.11471 | Q21: 0.104222 | T21: =SUM(Q21:S21) -> 0.104222 | U21: 5.3 | X21: =SUM(U21:W21) -> 5.3 | Z21: 0 | AC21: =SUM(Z21:AB21) -> 0 | AD21: 0 | AG21: =SUM(AD21:AF21) -> 0 | AH21: 0.1 | AK21: =SUM(AH21:AJ21) -> 0.1 | AL21: 0.3 | AO21: =SUM(AL21:AN21) -> 0.3 | AP21: 0.5 | AS21: =SUM(AP21:AR21) -> 0.5 | AU21: 0 | AX21: 0 | AY21: 2.651862 | BB21: 2.651862 | BC21: 4.896197 | BF21: 4.896197 | BG21: =BK21-AU21-AY21-BC21 -> 4.451941 | BJ21: =SUM(BG21:BI21) -> 4.451941 | BK21: 12 | BN21: =SUM(BK21:BM21) -> 12 | BP21: 2 | BQ21: 0 | BR21: 0 | BS21: -1 | BT21: =SUM(BP21:BS21) -> 1 | BV21: 0 | BW21: 1 | BX21: 0 | BY21: 4 | BZ21: =SUM(BV21:BY21) -> 5
B22: Financial expenses | D22: -12.5 | E22: -10.5 | H22: =SUM(E22:G22) -> -10.5 | I22: -10.2 | L22: =SUM(I22:K22) -> -10.2 | M22: -9.3 | P22: =SUM(M22:O22) -> -9.3 | Q22: 12.8 | T22: =SUM(Q22:S22) -> 12.8 | U22: -37.9 | X22: =SUM(U22:W22) -> -37.9 | Z22: -9.2 | AC22: =SUM(Z22:AB22) -> -9.2 | AD22: -8 | AG22: =SUM(AD22:AF22) -> -8 | AH22: -12.9 | AK22: =SUM(AH22:AJ22) -> -12.9 | AL22: -15.8 | AO22: =SUM(AL22:AN22) -> -15.8 | AP22: -45.9 | AS22: =SUM(AP22:AR22) -> -45.9 | AU22: -23.4 | AX22: -23.4 | AY22: -24.2 | BB22: -24.2 | BC22: -34.4 | BF22: -34.4 | BG22: =BK22-AU22-AY22-BC22 -> -62 | BJ22: =SUM(BG22:BI22) -> -62 | BK22: -144 | BN22: =SUM(BK22:BM22) -> -144 | BP22: -44 | BQ22: -50 | BR22: -51 | BS22: -38 | BT22: =SUM(BP22:BS22) -> -183 | BV22: -54 | BW22: -40 | BX22: -38 | BY22: -36 | BZ22: =SUM(BV22:BY22) -> -168
B23: Net financials | D23: -12.249272 | E23: -10.541467 | F23: 0 | G23: 0 | H23: =SUM(H20:H22) -> -10.541467 | I23: -10.294913 | J23: 0 | K23: 0 | L23: =SUM(L20:L22) -> -10.294913 | M23: -4.215056 | N23: 0 | O23: 0 | P23: =SUM(P20:P22) -> -4.215056 | Q23: 8.687816 | R23: 0 | S23: 0 | T23: =SUM(T20:T22) -> 8.687816 | U23: -37.2 | V23: 0 | W23: 0 | X23: =SUM(X20:X22) -> -37.2 | Z23: -9 | AA23: 0 | AB23: 0 | AC23: =SUM(AC20:AC22) -> -9 | AD23: -13.3 | AE23: 0 | AF23: 0 | AG23: =SUM(AG20:AG22) -> -13.3 | AH23: -12.6 | AI23: 0 | AJ23: 0 | AK23: =SUM(AK20:AK22) -> -12.6 | AL23: -15.5 | AM23: 0 | AN23: 0 | AO23: =SUM(AO20:AO22) -> -15.5 | AP23: -50.3 | AQ23: 0 | AR23: 0 | AS23: =SUM(AS20:AS22) -> -50.3 | AU23: -23.3 | AV23: 0 | AW23: 0 | AX23: -23.3 | AY23: -21.423802 | AZ23: 0 | BA23: 0 | BB23: -21.423802 | BC23: -29.311605 | BD23: 0 | BE23: 0 | BF23: -29.311605 | BG23: =SUM(BG20:BG22) -> -56.964593 | BH23: =SUM(BH20:BH22) -> 0 | BI23: =SUM(BI20:BI22) -> 0 | BJ23: =SUM(BJ20:BJ22) -> -56.964593 | BK23: -131 | BL23: 0 | BM23: 0 | BN23: =SUM(BN20:BN22) -> -131 | BP23: =SUM(BP20:BP22) -> -42 | BQ23: =SUM(BQ20:BQ22) -> -50 | BR23: =SUM(BR20:BR22) -> -51 | BS23: -38 | BT23: =SUM(BT20:BT22) -> -181 | BV23: =SUM(BV20:BV22) -> -54 | BW23: =SUM(BW20:BW22) -> -39 | BX23: =SUM(BX20:BX22) -> -38 | BY23: =SUM(BY20:BY22) -> -31 | BZ23: =SUM(BV23:BY23) -> -162
B24: Profit before tax | D24: 59.850728 | E24: 67.458533 | F24: 0 | G24: 0 | H24: =H18+H23 -> 67.458533 | I24: 46.405087 | J24: 0 | K24: 0 | L24: =L18+L23 -> 46.405087 | M24: 189.48494 | N24: 0 | O24: 0 | P24: =P18+P23 -> 189.48494 | Q24: 282.58782 | R24: 0 | S24: 0 | T24: =T18+T23 -> 282.58782 | U24: 351.1 | V24: 0 | W24: 0 | X24: =X18+X23 -> 351.1 | Z24: 88.6 | AA24: 0 | AB24: 0 | AC24: =AC18+AC23 -> 88.6 | AD24: 60 | AE24: 0 | AF24: 0 | AG24: =AG18+AG23 -> 60 | AH24: 188.8 | AI24: 0 | AJ24: 0 | AK24: =AK18+AK23 -> 188.8 | AL24: 35.2 | AM24: 0 | AN24: 0 | AO24: =AO18+AO23 -> 35.2 | AP24: 372.8 | AQ24: 0 | AR24: 0 | AS24: =AS18+AS23 -> 372.8 | AU24: 65.4 | AV24: 0 | AW24: 0 | AX24: 65.4 | AY24: 3.576198 | AZ24: 0 | BA24: 0 | BB24: 3.576198 | BC24: 220.0884 | BD24: 0 | BE24: 0 | BF24: 220.08839 | BG24: =BG18+BG23 -> -41.064593 | BH24: =BH18+BH23 -> 0 | BI24: =BI18+BI23 -> 0 | BJ24: =BJ18+BJ23 -> -41.064593 | BK24: 248 | BL24: 0 | BM24: 0 | BN24: =BN18+BN23 -> 248 | BP24: =BP18+BP23 -> 76 | BQ24: =BQ18+BQ23 -> 31 | BR24: =BR18+BR23 -> 266 | BS24: =BS18+BS23 -> 11 | BT24: =BT18+BT23 -> 384 | BV24: =BV18+BV23 -> 82 | BW24: =BW18+BW23 -> 31 | BX24: =BX18+BX23 -> 239 | BY24: =BY18+BY23 -> 0 | BZ24: =BZ18+BZ23 -> 352
B26: Tax on profit for the period | D26: -13.155 | E26: -13.355 | H26: =SUM(E26:G26) -> -13.355 | I26: -10 | L26: =SUM(I26:K26) -> -10 | M26: -42.8 | P26: =SUM(M26:O26) -> -42.8 | Q26: 14.91 | T26: =SUM(Q26:S26) -> 14.91 | U26: -74.6 | X26: =SUM(U26:W26) -> -74.6 | Z26: -19.5 | AC26: =SUM(Z26:AB26) -> -19.5 | AD26: -13.3 | AG26: =SUM(AD26:AF26) -> -13.3 | AH26: -41.5 | AK26: =SUM(AH26:AJ26) -> -41.5 | AL26: -17.7 | AO26: =SUM(AL26:AN26) -> -17.7 | AP26: -92.1 | AS26: =SUM(AP26:AR26) -> -92.1 | AU26: -16.4 | AX26: -16.4 | AY26: -2 | BB26: -2 | BC26: -56.9 | BF26: -56.9 | BG26: =BK26-AU26-AY26-BC26 -> -3.7 | BJ26: =SUM(BG26:BI26) -> -3.7 | BK26: -79 | BN26: =SUM(BK26:BM26) -> -79 | BP26: -17 | BQ26: -7 | BR26: -65 | BS26: -13 | BT26: =SUM(BP26:BS26) -> -102 | BV26: -18 | BW26: -7 | BX26: -53 | BY26: -31 | BZ26: =SUM(BV26:BY26) -> -109
B27: Profit for the period | D27: 46.695728 | E27: 54.103533 | F27: 0 | G27: 0 | H27: =SUM(H24:H26) -> 54.103533 | I27: 36.405087 | J27: 0 | K27: 0 | L27: =SUM(L24:L26) -> 36.405087 | M27: 146.68494 | N27: 0 | O27: 0 | P27: =SUM(P24:P26) -> 146.68494 | Q27: 297.49782 | R27: 0 | S27: 0 | T27: =SUM(T24:T26) -> 297.49782 | U27: 276.5 | V27: 0 | W27: 0 | X27: =SUM(X24:X26) -> 276.5 | Z27: 69.1 | AA27: 0 | AB27: 0 | AC27: =SUM(AC24:AC26) -> 69.1 | AD27: 46.7 | AE27: 0 | AF27: 0 | AG27: =SUM(AG24:AG26) -> 46.7 | AH27: 147.3 | AI27: 0 | AJ27: 0 | AK27: =SUM(AK24:AK26) -> 147.3 | AL27: 17.6 | AM27: 0 | AN27: 0 | AO27: =SUM(AO24:AO26) -> 17.5 | AP27: 280.7 | AQ27: 0 | AR27: 0 | AS27: =SUM(AS24:AS26) -> 280.7 | AU27: 49 | AV27: 0 | AW27: 0 | AX27: 49 | AY27: 1.576198 | AZ27: 0 | BA27: 0 | BB27: 1.576198 | BC27: 163.1884 | BD27: 0 | BE27: 0 | BF27: 163.18839 | BG27: =SUM(BG24:BG26) -> -44.764593 | BH27: =SUM(BH24:BH26) -> 0 | BI27: =SUM(BI24:BI26) -> 0 | BJ27: =SUM(BJ24:BJ26) -> -44.764593 | BK27: 169 | BL27: 0 | BM27: 0 | BN27: =SUM(BN24:BN26) -> 169 | BP27: =SUM(BP24:BP26) -> 59 | BQ27: =SUM(BQ24:BQ26) -> 24 | BR27: =SUM(BR24:BR26) -> 201 | BS27: =SUM(BS24:BS26) -> -2 | BT27: =SUM(BT24:BT26) -> 282 | BV27: =SUM(BV24:BV26) -> 64 | BW27: =SUM(BW24:BW26) -> 24 | BX27: =SUM(BX24:BX26) -> 186 | BY27: =SUM(BY24:BY26) -> -31 | BZ27: =SUM(BZ24:BZ26) -> 243
B29: Other comprehensive income | D29: 0 | E29: 0 | H29: =SUM(E29:G29) -> 0 | I29: 0 | L29: =SUM(I29:K29) -> 0 | M29: 0 | P29: =SUM(M29:O29) -> 0 | Q29: 0 | T29: =SUM(Q29:S29) -> 0 | U29: 0 | X29: =SUM(U29:W29) -> 0 | Z29: 0 | AC29: =SUM(Z29:AB29) -> 0 | AD29: 0 | AG29: =SUM(AD29:AF29) -> 0 | AH29: 0 | AK29: =SUM(AH29:AJ29) -> 0 | AL29: 0 | AO29: =SUM(AL29:AN29) -> 0 | AP29: 0 | AS29: =SUM(AP29:AR29) -> 0 | AU29: 0 | AX29: 0 | AY29: 21.6 | BB29: 21.6 | BC29: 18.39998 | BF29: 18.39998 | BG29: =BK29-AU29-AY29-BC29 -> -22.99998 | BJ29: =SUM(BG29:BI29) -> -22.99998 | BK29: 17 | BN29: =SUM(BK29:BM29) -> 17 | BP29: -6 | BQ29: 9 | BR29: -4 | BS29: 32 | BT29: =SUM(BP29:BS29) -> 31 | BV29: -14 | BW29: 9 | BX29: 5 | BY29: 5 | BZ29: =SUM(BV29:BY29) -> 5
B31: Total comprehensive income | D31: 46.695728 | E31: 54.103533 | H31: =SUM(H27:H30) -> 54.103533 | I31: 36.405087 | L31: =SUM(L27:L30) -> 36.405087 | M31: 146.68494 | P31: =SUM(P27:P30) -> 146.68494 | Q31: 297.49782 | T31: =SUM(T27:T30) -> 297.49782 | U31: 276.5 | X31: =SUM(X27:X30) -> 276.5 | Z31: 69.1 | AC31: =SUM(AC27:AC30) -> 69.1 | AD31: 46.7 | AG31: =SUM(AG27:AG30) -> 46.7 | AH31: 147.3 | AK31: =SUM(AK27:AK30) -> 147.3 | AL31: 17.6 | AO31: =SUM(AO27:AO30) -> 17.5 | AP31: 280.7 | AS31: =SUM(AS27:AS30) -> 280.7 | AU31: 49 | AX31: 49 | AY31: 23.176198 | BB31: 23.176198 | BC31: 181.58838 | BF31: 181.58837 | BG31: =BG27+BG29 -> -67.764573 | BI31: =BI27+BI29 -> 0 | BJ31: =BJ27+BJ29 -> -67.764573 | BK31: 186 | BN31: =SUM(BN27:BN30) -> 186 | BP31: =SUM(BP27:BP30) -> 53 | BQ31: =SUM(BQ27:BQ30) -> 33 | BR31: =SUM(BR27:BR30) -> 197 | BS31: =SUM(BS27:BS30) -> 30 | BT31: =SUM(BT27:BT30) -> 313 | BV31: =SUM(BV27:BV30) -> 50 | BW31: =SUM(BW27:BW30) -> 33 | BX31: =SUM(BX27:BX30) -> 191 | BY31: =SUM(BY27:BY30) -> -26 | BZ31: =SUM(BZ27:BZ30) -> 248
B33: Earnings per share
B34: Average number of shares m | D34: 38204.86 | E34: 38269.969 | H34: 38269.969 | I34: 38247.102 | L34: 38247.102 | M34: 37889.705 | P34: 37889.705 | Q34: 38016 | T34: 38016 | U34: 38016 | X34: 38016 | Z34: 37760 | AC34: 37760 | AD34: 37933 | AG34: 37933 | AH34: 37933 | AK34: 37933 | AL34: 37933 | AO34: 37933 | AP34: 37882 | AS34: 37882 | AU34: 37975.863 | AX34: 37975.863 | AY34: 38118.511 | BB34: 38118.511 | BC34: 38036.252 | BF34: 38036.252 | BG34: 37908.511 | BJ34: 37908.511 | BK34: 38010 | BN34: 38010 | BP34: 38021 | BQ34: 38098.752 | BR34: 38031 | BS34: 37888.752 | BT34: 38021 | BV34: 38008.988 | BW34: 37990.749 | BX34: 37591 | BY34: 37252.976 | BZ34: 37716.737
B35: Diluted number of shares m | D35: 38564.873 | E35: 38628.194 | H35: 38628.194 | I35: 38594.965 | L35: 38594.965 | M35: 38304.46 | P35: 38304.46 | Q35: 38416 | T35: 38416 | U35: 38416 | X35: 38416 | Z35: 38177 | AC35: 38177 | AD35: 38223 | AG35: 38223 | AH35: 38232 | AK35: 38232 | AL35: 38231 | AO35: 38231 | AP35: 38067 | AS35: 38067 | AU35: 38349.568 | AX35: 38349.568 | AY35: 38506.52 | BB35: 38506.52 | BC35: 38424.261 | BF35: 38424.261 | BG35: 37994.995 | BJ35: 37994.995 | BK35: 38195 | BN35: 38195 | BP35: 38291 | BQ35: 38371.487 | BR35: 38301 | BS35: 38155.869 | BT35: 38255 | BV35: 38308.988 | BW35: 38274.29 | BX35: 37782 | BY35: 37443.927 | BZ35: 37907.688
B36: Earnings per share, DKK | D36: 1.2222458 | E36: 1.4137334 | H36: 1.4137334 | I36: 0.9518391 | L36: 0.9518391 | M36: 3.8713667 | P36: 3.8713667 | Q36: 1.0330608 | T36: 1.0330608 | U36: 7.27 | X36: 7.27 | Z36: 1.83 | AC36: 1.83 | AD36: 1.23 | AG36: 1.23 | AH36: 3.88 | AK36: 3.88 | AL36: 0.46 | AO36: 0.46 | AP36: 7.41 | AS36: 7.41 | AU36: 1.2902933 | AX36: 1.2902933 | AY36: 0.041349936 | BB36: 0.041349936 | BC36: 4.2903385 | BF36: 4.2903385 | BG36: =BG27/BG34*1000 -> -1.1808586 | BJ36: =BJ27/BJ34*1000 -> -1.1808586 | BK36: 4.45 | BN36: 4.45 | BP36: 1.5644041 | BQ36: 0.64048699 | BR36: 5.2955318 | BS36: -0.078824514 | BT36: 7.4171647 | BV36: 1.67 | BW36: 0.64 | BX36: 4.95 | BY36: =BY27/BY34*1000 -> -0.83214828 | BZ36: =BZ27/BZ34*1000 -> 6.4427631
B37: Diluted earnings per share, DKK | D37: 1.2108358 | E37: 1.4006229 | H37: 1.4006229 | I37: 0.94326001 | L37: 0.94326001 | M37: 3.8294482 | P37: 3.8294482 | Q37: 1.0266689 | T37: 1.0266689 | U37: 7.2 | X37: 7.2 | Z37: 1.81 | AC37: 1.81 | AD37: 1.22 | AG37: 1.22 | AH37: 3.85 | AK37: 3.85 | AL37: 0.46 | AO37: 0.46 | AP37: 7.37 | AS37: 7.37 | AU37: 1.2777197 | AX37: 1.2777197 | AY37: 0.040933276 | BB37: 0.040933276 | BC37: 4.2470145 | BF37: 4.2470145 | BG37: =BG27/BG35*1000 -> -1.1781708 | BJ37: =BJ27/BJ35*1000 -> -1.1781708 | BK37: 4.43 | BN37: 4.43 | BP37: 1.5534436 | BQ37: 0.63593457 | BR37: 5.2582013 | BS37: -0.078272689 | BT37: 7.3718934 | BV37: 1.66 | BW37: 0.63 | BX37: 4.92 | BY37: =BY27/BY35*1000 -> -0.82790462 | BZ37: =BZ27/BZ35*1000 -> 6.4103092
B39: Revenue growth, Group | D39: 0.081315669 | E39: 0.078686101 | H39: 0.078686101 | I39: 0.044284795 | L39: 0.044284795 | M39: 0.049809596 | P39: 0.049809596 | Q39: -0.001 | T39: -0.001 | U39: 0.043 | X39: 0.043 | Z39: 0.032 | AC39: 0.032 | AD39: 0.016 | AG39: 0.016 | AH39: 0.013 | AK39: 0.013 | AL39: 0.083 | AO39: 0.083 | AP39: 0.033 | AS39: 0.033 | AU39: 0.09159943 | AX39: 0.09159943 | AY39: 0.29943389 | BB39: 0.29943389 | BC39: 0.79630425 | BF39: 0.79630425 | BG39: 0.673 | BJ39: 0.673 | BK39: 0.493 | BN39: 0.493 | BP39: =(BP5-AX5)/AX5 -> 0.70086957 | BQ39: =(BQ5-AY5)/AY5 -> 0.44001867 | BR39: =(BR5-BF5)/BF5 -> 0.074162679 | BS39: 0.068 | BT39: =(BT5-BN5)/BN5 -> 0.25041039 | BV39: =(BV5-BP5)/BP5 -> 0.060327198 | BW39: 0.05 | BX39: 0.031 | BY39: 0.055 | BZ39: 0.047
B40: Currency neutral growth, Group | BP40: 0.062 | BQ40: 0.068 | BR40: 0.077 | BS40: 0.072 | BT40: 0.07 | BV40: 0.047 | BW40: 0.044 | BX40: 0.018 | BY40: 0.04 | BZ40: 0.035
B41: Like-for-like growth, Group | BK41: 0.068 | BN41: 0.068 | BP41: 0.022 | BQ41: 0.055 | BR41: 0.053 | BS41: 0.024 | BT41: 0.031 | BV41: 0.015 | BW41: 0.015 | BX41: 0.004 | BY41: -0.004 | BZ41: 0.007
B42: Organic growth, Matas | Z42: 0.032 | AC42: 0.032 | AD42: 0.016 | AG42: 0.016 | AH42: 0.013 | AK42: 0.013 | AL42: 0.083 | AO42: 0.083 | AP42: 0.033 | AS42: 0.033 | AU42: 0.09159943 | AX42: 0.09159943 | AY42: 0.08 | BB42: 0.08 | BC42: 0.092 | BF42: 0.092 | BG42: 0.044 | BJ42: 0.044 | BK42: 0.078 | BN42: 0.078 | BP42: =('Category by banner'!V23-'Category by banner'!P23)/'Category by banner'!P23 -> 0.072564325 | BQ42: =('Category by banner'!W23-'Category by banner'!Q23)/'Category by banner'!Q23 -> 0.075776658 | BR42: =('Category by banner'!X23-'Category by banner'!R23)/'Category by banner'!R23 -> 0.074569243 | BS42: =('Category by banner'!Y23-'Category by banner'!S23)/'Category by banner'!S23 -> 0.076458405 | BT42: =('Category by banner'!Z23-'Category by banner'!T23)/'Category by banner'!T23 -> 0.074775406 | BV42: =('Category by banner'!AB23-'Category by banner'!V23)/'Category by banner'!V23 -> 0.053009883 | BW42: =('Category by banner'!AC23-'Category by banner'!W23)/'Category by banner'!W23 -> 0.068292683 | BX42: =('Category by banner'!AD23-'Category by banner'!X23)/'Category by banner'!X23 -> 0.047904192 | BY42: 0.027 | BZ42: 0.049
B43: Like-for-like growth, Matas | D43: 0.083833336 | E43: 0.058645304 | H43: 0.058645304 | I43: 0.018494738 | L43: 0.018494738 | M43: 0.028105779 | P43: 0.028105779 | Q43: -0.023 | T43: -0.023 | U43: 0.021 | X43: 0.021 | Z43: 0.029 | AC43: 0.029 | AD43: 0.016 | AG43: 0.016 | AH43: 0.012 | AK43: 0.012 | AL43: 0.075 | AO43: 0.075 | AP43: 0.031 | AS43: 0.031 | AU43: 0.083945881 | AX43: 0.083945881 | AY43: 0.075043906 | BB43: 0.075043906 | BC43: 0.091179358 | BF43: 0.091179358 | BG43: 0.014578626 | BJ43: 0.014578626 | BK43: 0.073 | BN43: 0.073 | BP43: 0.015 | BQ43: 0.024 | BR43: 0.023 | BS43: 0.033 | BT43: 0.024 | BV43: 0.01 | BW43: 0.03 | BX43: 0.023 | BY43: -0.022 | BZ43: 0.012
B44: Currency neutral growth, KICKS | AY44: 0.031 | BB44: 0.031 | BC44: 0.047 | BF44: 0.047 | BG44: -0.002 | BJ44: -0.002 | BK44: 0.027 | BN44: 0.027 | BP44: 0.029 | BQ44: 0.057 | BR44: 0.073 | BS44: 0.046 | BT44: 0.053 | BV44: 0.023 | BW44: -0.014 | BX44: -0.038 | BY44: 0.047 | BZ44: 0
B45: Like-for-like growth, KICKS | BK45: 0.061 | BN45: 0.061 | BP45: 0.027 | BQ45: 0.028 | BR45: 0.101 | BS45: 0.01 | BT45: 0.043 | BV45: 0.022 | BW45: -0.008 | BX45: -0.064 | BY45: 0.025 | BZ45: -0.001
B46: EBITDA | D46: 171.3 | E46: 185.7 | H46: =H15 -> 185.7 | I46: 163 | L46: =L15 -> 163 | M46: 300.9 | P46: =P15 -> 300.9 | Q46: 160 | T46: =T15 -> 160 | U46: 809.6 | X46: =X15 -> 809.6 | Z46: 186.7 | AC46: 186.7 | AD46: 160 | AG46: 160 | AH46: 295.9 | AK46: 295.9 | AL46: 161.6 | AO46: 161.6 | AP46: 804.2 | AS46: =AS15 -> 804.2 | AU46: 179.8 | AX46: 179.8 | AY46: 138.1 | BB46: 138.1 | BC46: 404.5 | BF46: 404.5 | BG46: 181.6 | BJ46: 181.6 | BK46: 904 | BN46: =BN15 -> 904 | BP46: =BP15 -> 276 | BQ46: =BQ15 -> 238 | BR46: =BR15 -> 473 | BS46: =BS15 -> 202 | BT46: =BT15 -> 1189 | BV46: =BV15 -> 297 | BW46: =BW15 -> 230 | BX46: =BX15 -> 443 | BY46: =BY15 -> 208 | BZ46: =BZ15 -> 1178
B47: Special items | D47: 1.5 | E47: 0 | H47: =-H14 -> 0 | I47: 2.616782 | L47: =-L14 -> 2.616782 | M47: -17.433417 | P47: =-P14 -> -17.433417 | Q47: 7.816635 | T47: =-T14 -> 7.816635 | U47: -7 | X47: =-X14 -> -7 | Z47: 4.8 | AC47: 4.8 | AD47: 0 | AG47: 0 | AH47: 0 | AK47: 0 | AL47: 0 | AO47: 0 | AP47: 4.8 | AS47: =-AS14 -> 4.8 | AU47: 21.149533 | AX47: 21.149533 | AY47: 39.129467 | BB47: 39.129467 | BC47: 19.603679 | BF47: 19.603679 | BG47: 22.117321 | BJ47: 22.117321 | BK47: 102 | BN47: =-BN14 -> 102 | BP47: =BP14 -> -17 | BQ47: =BQ14 -> 5 | BR47: =BR14 -> -1 | BS47: =BS14 -> -14 | BT47: =BT14 -> -27 | BV47: =BV14 -> -5 | BW47: =BW14 -> -11 | BX47: =BX14 -> -22 | BY47: =BY14 -> -18 | BZ47: =BZ14 -> -56
B48: EBITDA before special items | D48: 172.8 | E48: 185.7 | H48: =H46+H47 -> 185.7 | I48: 165.61678 | L48: =L46+L47 -> 165.61678 | M48: 283.46658 | P48: =P46+P47 -> 283.46658 | Q48: 167.81664 | T48: =T46+T47 -> 167.81664 | U48: 802.6 | X48: =X46+X47 -> 802.6 | Z48: 191.5 | AC48: 191.5 | AD48: 160 | AG48: 160 | AH48: 295.9 | AK48: 295.9 | AL48: 161.6 | AO48: 161.6 | AP48: 809 | AS48: =AS46+AS47 -> 809 | AU48: 200.94953 | AX48: 200.94953 | AY48: 177.22947 | BB48: 177.22947 | BC48: 424.10368 | BF48: 424.10368 | BG48: 203.71732 | BJ48: 203.71732 | BK48: 1006 | BN48: =BN46+BN47 -> 1006 | BP48: =BP12 -> 293 | BQ48: =BQ12 -> 233 | BR48: =BR12 -> 474 | BS48: =BS12 -> 216 | BT48: =BT12 -> 1216 | BV48: =BV12 -> 302 | BW48: =BW12 -> 241 | BX48: =BX12 -> 465 | BY48: =BY12 -> 226 | BZ48: =BZ12 -> 1234
B49: Adjusted profit after tax | D49: 67.381328 | E49: 77.150973 | H49: 77.150973 | I49: 62.481877 | L49: 62.481877 | M49: 156.45478 | P49: 156.45478 | Q49: 61.412371 | T49: 61.412371 | U49: 357.5 | X49: 357.5 | Z49: 81.6 | AC49: 81.6 | AD49: 55.6 | AG49: 55.6 | AH49: 157.1 | AK49: 157.1 | AL49: 27.8 | AO49: 27.8 | AP49: 322.1 | AS49: 322.1 | AU49: 77.859156 | AX49: 77.859156 | AY49: 47.049962 | BB49: 47.049962 | BC49: 190.57242 | BF49: 190.57242 | BG49: -13.8 | BJ49: -13.8 | BK49: 301.68154 | BN49: 301.68154 | BP49: 85 | BQ49: 26 | BR49: 210 | BS49: 15 | BT49: =SUM(BP49:BS49) -> 336 | BV49: 74 | BW49: 39 | BX49: 212 | BY49: -8 | BZ49: 317
B51: Gross margin, Matas ** | D51: =D7/D5 -> 0.44381073 | E51: =E7/E5 -> 0.44365025 | H51: =H7/H5 -> 0.45804666 | I51: =I7/I5 -> 0.44244789 | L51: =L7/L5 -> 0.45629405 | M51: =M7/M5 -> 0.44522635 | P51: =P7/P5 -> 0.44124871 | Q51: =Q7/Q5 -> 0.48248506 | T51: =T7/T5 -> 0.49429039 | U51: =U7/U5 -> 0.45255743 | X51: =X7/X5 -> 0.46042155 | Z51: 0.442 | AC51: 0.45628856 | AD51: 0.448 | AG51: 0.46006874 | AH51: 0.445 | AK51: 0.45960464 | AL51: 0.461 | AO51: 0.47473113 | AP51: =AP7/AP5 -> 0.4486814 | AS51: =AS7/AS5 -> 0.46248403 | AU51: 0.441 | AX51: 0.456 | AY51: 0.44 | BB51: 0.465 | BC51: 0.429 | BF51: 0.443 | BG51: 0.482 | BJ51: 0.504 | BK51: 0.446 | BN51: =(3078-825.5)/(6701-1860.6) -> 0.4653541 | BP51: 0.478 | BQ51: 0.479 | BR51: 0.473 | BS51: 0.512 | BT51: 0.484 | BV51: 0.485 | BW51: 0.483 | BX51: 0.453 | BY51: 0.481 | BZ51: 0.473
...

Sheet Matas Proforma Group P&L
B1: MATAS GROUP | D1: Original | E1: Reclas. | F1: Spec. Items | G1: Adjusted | H1: Original | I1: Reclas. | J1: Spec. Items | K1: Adjusted | L1: Original | M1: Reclas. | N1: Spec. Items | O1: Adjusted | P1: Original | Q1: Reclas. | R1: Spec. Items | S1: Adjusted | T1: Original | U1: Reclas. | V1: Spec. Items | W1: Adjusted | Y1: Original | Z1: Reclas. | AA1: Spec. Items | AB1: Adjusted | AC1: Original | AD1: Reclas. | AE1: Spec. Items | AF1: Adjusted | AG1: Original | AH1: Reclas. | AI1: Spec. Items | AJ1: Adjusted | AK1: Original | AL1: Reclas. | AM1: Spec. Items | AN1: Adjusted | AO1: Original | AP1: Reclas. | AQ1: Spec. Items | AR1: Adjusted | AT1: Original | AU1: Reclas. | AV1: Spec. Items | AW1: Adjusted | AX1: Proforma KICKS April, May June | AY1: Proforma Group | AZ1: Original | BA1: Reclas. | BB1: Spec. Items | BC1: Adjusted | BD1: Proforma KICKS July And August | BE1: Proforma Group | BF1: Original | BG1: Reclas. | BH1: Spec. Items | BI1: Adjusted | BJ1: Original | BK1: Reclas. | BL1: Spec. Items | BM1: Adjusted | BN1: Original | BO1: Reclas. | BP1: Spec. Items | BQ1: Adjusted | BR1: Matas Group incl. KICKS proforma
B2: Statement of comprehensive income for the year ended 31 March | D2: 2021/22 | H2: =D2 -> 2021/22 | L2: =H2 -> 2021/22 | P2: =L2 -> 2021/22 | T2: =P2 -> 2021/22 | Y2: 2022/23 | AC2: =Y2 -> 2022/23 | AG2: =AC2 -> 2022/23 | AK2: =AG2 -> 2022/23 | AO2: =AK2 -> 2022/23 | AT2: 2023/24 | AX2: 2023/24 | AZ2: =AT2 -> 2023/24 | BD2: 2023/24 | BF2: =AZ2 -> 2023/24 | BJ2: =BF2 -> 2023/24 | BN2: =BJ2 -> 2023/24 | BR2: =BN2 -> 2023/24 | BT2: 2024/25 | BU2: =BT2 -> 2024/25 | BV2: =BU2 -> 2024/25 | BW2: =BV2 -> 2024/25 | BX2: =BW2 -> 2024/25 | BZ2: 2025/26 | CA2: =BZ2 -> 2025/26 | CB2: =CA2 -> 2025/26 | CC2: =CB2 -> 2025/26 | CD2: =CC2 -> 2025/26
B3: DKK million | D3: Q1 | H3: Q2 | L3: Q3 * | P3: Q4 | T3: FY * | Y3: Q1 | AC3: Q2 | AG3: Q3 | AK3: Q4 | AO3: FY | AT3: Q1 | AX3: Q1 | AZ3: Q2 | BD3: Q2 | BF3: Q3 | BJ3: Q4 * | BN3: FY | BR3: =BN3 -> FY | BT3: Q1 | BU3: Q2 | BV3: Q3 | BW3: Q4 | BX3: FY | BZ3: Q1 | CA3: Q2 | CB3: Q3 | CC3: Q4 | CD3: FY
B5: Revenue | D5: 1021.3 | G5: =SUM(D5:F5) -> 1021.3 | H5: 973.9 | K5: =SUM(H5:J5) -> 973.9 | L5: 1378.4 | O5: =SUM(L5:N5) -> 1378.4 | P5: 970.6 | S5: =SUM(P5:R5) -> 970.6 | T5: 4344.2 | W5: =SUM(T5:V5) -> 4344.2 | Y5: 1053.5 | AB5: =SUM(Y5:AA5) -> 1053.5 | AC5: 989.2 | AF5: =SUM(AC5:AE5) -> 989.2 | AG5: 1396.2 | AJ5: =SUM(AG5:AI5) -> 1396.2 | AK5: 1050.7 | AN5: =SUM(AK5:AM5) -> 1050.7 | AO5: 4489.6 | AR5: =SUM(AO5:AQ5) -> 4489.6 | AT5: 1150 | AW5: 1150 | AX5: 691.28017 | AY5: 1841.2802 | AZ5: 1285.4 | BC5: 1285.4 | BD5: 441.6168 | BE5: 1727.0168 | BF5: 2508 | BI5: 2508 | BJ5: =BN5-AT5-AZ5-BF5 -> 1757.6 | BM5: =SUM(BJ5:BL5) -> 1757.6 | BN5: 6701 | BQ5: =SUM(BN5:BP5) -> 6701 | BR5: =AY5+BE5+BI5+BM5 -> 7833.897 | BT5: ='Matas Group P&L and KPIs'!BP5 -> 1956 | BU5: ='Matas Group P&L and KPIs'!BQ5 -> 1851 | BV5: ='Matas Group P&L and KPIs'!BR5 -> 2694 | BW5: ='Matas Group P&L and KPIs'!BS5 -> 1878 | BX5: =SUM(BT5:BW5) -> 8379 | BZ5: ='Matas Group P&L and KPIs'!BV5 -> 2074 | CA5: ='Matas Group P&L and KPIs'!BW5 -> 1945 | CB5: ='Matas Group P&L and KPIs'!BX5 -> 2776 | CC5: ='Matas Group P&L and KPIs'!BY5 -> 1981 | CD5: =SUM(BZ5:CC5) -> 8776
B6: Cost of goods sold | D6: -568.2 | E6: 14.703052 | G6: =SUM(D6:F6) -> -553.49695 | H6: -543 | I6: 13.484774 | K6: =SUM(H6:J6) -> -529.51523 | L6: -764.7 | M6: 14.850639 | N6: -20.333417 | O6: =SUM(L6:N6) -> -770.18278 | P6: -502.3 | Q6: 11.458255 | S6: =SUM(P6:R6) -> -490.84174 | T6: -2378.2 | U6: 54.49672 | V6: -20.333417 | W6: =SUM(T6:V6) -> -2344.0367 | Y6: -587.4 | Z6: 14.6 | AB6: =SUM(Y6:AA6) -> -572.8 | AC6: -546.3 | AD6: 12.2 | AF6: =SUM(AC6:AE6) -> -534.1 | AG6: -775.3 | AH6: 20.8 | AJ6: =SUM(AG6:AI6) -> -754.5 | AK6: -566.2 | AL6: 14.3 | AN6: =SUM(AK6:AM6) -> -551.9 | AO6: -2475.2 | AP6: 61.96828 | AR6: =SUM(AO6:AQ6) -> -2413.2317 | AT6: -643.9 | AU6: 16.1 | AW6: -627.8 | AX6: -374.15765 | AY6: -1001.9576 | AZ6: -712.8 | BA6: 23.7 | BC6: -689.1 | BD6: -246.891 | BE6: -935.991 | BF6: -1412.5 | BG6: 19.7 | BI6: -1392.8 | BJ6: =BN6-AT6-AZ6-BF6 -> -934.8 | BK6: =BO6-AU6-BA6-BG6 -> 21.5 | BM6: =SUM(BJ6:BL6) -> -913.3 | BN6: -3704 | BO6: 81 | BQ6: =SUM(BN6:BP6) -> -3623 | BR6: =AY6+BE6+BI6+BM6 -> -4244.0486 | BT6: ='Matas Group P&L and KPIs'!BP6 -> -1053 | BU6: ='Matas Group P&L and KPIs'!BQ6 -> -999 | BV6: ='Matas Group P&L and KPIs'!BR6 -> -1449 | BW6: ='Matas Group P&L and KPIs'!BS6 -> -1008 | BX6: =SUM(BT6:BW6) -> -4509 | BZ6: ='Matas Group P&L and KPIs'!BV6 -> -1119 | CA6: ='Matas Group P&L and KPIs'!BW6 -> -1056 | CB6: ='Matas Group P&L and KPIs'!BX6 -> -1533 | CC6: ='Matas Group P&L and KPIs'!BY6 -> -1131 | CD6: =SUM(BZ6:CC6) -> -4839
B7: Gross profit | D7: =SUM(D5:D6) -> 453.1 | E7: =SUM(E5:E6) -> 14.703052 | F7: =SUM(F5:F6) -> 0 | G7: =SUM(G5:G6) -> 467.80305 | H7: =SUM(H5:H6) -> 430.9 | I7: =SUM(I5:I6) -> 13.484774 | J7: =SUM(J5:J6) -> 0 | K7: =SUM(K5:K6) -> 444.38477 | ... W7: =SUM(W5:W6) -> 2000.1633 | Y7: 466.1 | Z7: 14.6 | AA7: 0 | AB7: =SUM(AB5:AB6) -> 480.7 | AC7: 442.9 | AD7: 12.2 | AE7: 0 | AF7: =SUM(AF5:AF6) -> 455.1 | AG7: 620.9 | AH7: 20.8 | AI7: 0 | AJ7: =SUM(AJ5:AJ6) -> 641.7 | AK7: 484.5 | AL7: 14.3 | AM7: 0 | AN7: =SUM(AN5:AN6) -> 498.8 | AO7: =SUM(AO5:AO6) -> 2014.4 | AP7: =SUM(AP5:AP6) -> 61.96828 | AQ7: =SUM(AQ5:AQ6) -> 0 | AR7: =SUM(AR5:AR6) -> 2076.3683 | AT7: 506.1 | AU7: 16.1 | AV7: 0 | AW7: 522.2 | AX7: 317.12253 | AY7: 839.32253 | AZ7: 572.6 | BA7: 23.7 | BB7: 0 | BC7: 596.3 | BD7: 194.7258 | BE7: 791.0258 | BF7: 1095.5 | BG7: 19.7 | BH7: 0 | BI7: 1115.2 | BJ7: =BJ5+BJ6 -> 822.8 | BK7: =BK5+BK6 -> 21.5 | BL7: =BL5+BL6 -> 0 | BM7: =BM5+BM6 -> 844.3 | BN7: =SUM(BN5:BN6) -> 2997 | BO7: =SUM(BO5:BO6) -> 81 | BP7: =SUM(BP5:BP6) -> 0 | BQ7: =SUM(BQ5:BQ6) -> 3078 | BR7: =SUM(BR5:BR6) -> 3589.8483 | BT7: =SUM(BT5:BT6) -> 903 | BU7: =SUM(BU5:BU6) -> 852 | BV7: =SUM(BV5:BV6) -> 1245 | BW7: =SUM(BW5:BW6) -> 870 | BX7: =SUM(BX5:BX6) -> 3870 | BZ7: =SUM(BZ5:BZ6) -> 955 | CA7: =SUM(CA5:CA6) -> 889 | CB7: =SUM(CB5:CB6) -> 1243 | CC7: =SUM(CC5:CC6) -> 850 | CD7: =SUM(CD5:CD6) -> 3937
B9: Other external costs | D9: -68.5 | E9: =-E6 -> -14.703052 | G9: =SUM(D9:F9) -> -83.203052 | H9: -69.2 | I9: =-I6 -> -13.484774 | K9: =SUM(H9:J9) -> -82.684774 | L9: -98.3 | M9: =-M6 -> -14.850639 | N9: 2.9 | O9: =SUM(L9:N9) -> -110.25064 | P9: -96.3 | Q9: =-Q6 -> -11.458255 | R9: 0.4 | S9: =SUM(P9:R9) -> -107.35825 | T9: -332.3 | U9: =-U6 -> -54.49672 | V9: 3.3 | W9: =SUM(T9:V9) -> -383.49672 | Y9: -77.5 | Z9: -16.8 | AA9: 4.8 | AB9: =SUM(Y9:AA9) -> -89.5 | AC9: -86.4 | AD9: -13.4 | AF9: =SUM(AC9:AE9) -> -99.8 | AG9: -105.3 | AH9: -19.2 | AJ9: =SUM(AG9:AI9) -> -124.5 | AK9: -115.7 | AL9: -15.4 | AN9: =SUM(AK9:AM9) -> -131.1 | AO9: -384.9 | AP9: =-AP6-AP11 -> -64.853858 | AQ9: 4.8 | AR9: =SUM(AO9:AQ9) -> -444.95386 | AT9: -111.4 | AU9: -17.1 | AV9: 21.149533 | AW9: -107.35047 | AX9: -94.702914 | AY9: -202.05338 | AZ9: -152.2 | BA9: -25 | BB9: 27.1 | BC9: -150.1 | BD9: -65.2592 | BE9: -215.3592 | BF9: -274.4 | BG9: -22.1 | BH9: 17 | BI9: -279.5 | BJ9: =BN9-AT9-AZ9-BF9 -> -248 | BK9: =BO9-AU9-BA9-BG9 -> -20.8 | BL9: =BP9-AV9-BB9-BH9 -> 13.750467 | BM9: =SUM(BJ9:BL9) -> -255.04953 | BN9: -786 | BO9: -85 | BP9: 79 | BQ9: =SUM(BN9:BP9) -> -792 | BR9: =AY9+BE9+BI9+BM9 -> -951.96211 | BT9: ='Matas Group P&L and KPIs'!BP9 -> -216 | BU9: ='Matas Group P&L and KPIs'!BQ9 -> -235 | BV9: ='Matas Group P&L and KPIs'!BR9 -> -325 | BW9: ='Matas Group P&L and KPIs'!BS9 -> -245 | BX9: =SUM(BT9:BW9) -> -1021 | BZ9: ='Matas Group P&L and KPIs'!BV9 -> -237 | CA9: ='Matas Group P&L and KPIs'!BW9 -> -249 | CB9: ='Matas Group P&L and KPIs'!BX9 -> -347 | CC9: ='Matas Group P&L and KPIs'!BY9 -> -248 | CD9: =SUM(BZ9:CC9) -> -1081
B10: Staff costs | D10: -198.9 | G10: =SUM(D10:F10) -> -198.9 | H10: -198.7 | J10: 2.616782 | K10: =SUM(H10:J10) -> -196.08322 | L10: -214.5 | O10: =SUM(L10:N10) -> -214.5 | P10: -212 | R10: 7.416635 | S10: =SUM(P10:R10) -> -204.58336 | T10: -824.1 | V10: 10.033417 | W10: =SUM(T10:V10) -> -814.06658 | Y10: -201.9 | AB10: =SUM(Y10:AA10) -> -201.9 | AC10: -196.5 | AF10: =SUM(AC10:AE10) -> -196.5 | AG10: -219.7 | AJ10: =SUM(AG10:AI10) -> -219.7 | AK10: -207.2 | AN10: =SUM(AK10:AM10) -> -207.2 | AO10: -825.3 | AR10: =SUM(AO10:AQ10) -> -825.3 | AT10: -214.9 | AW10: -214.9 | AX10: -157.19917 | AY10: -372.09917 | AZ10: -282.3 | BA10: -1.2 | BB10: 12.029467 | BC10: -271.47053 | BD10: -90.3213 | BE10: -361.79183 | BF10: -416.6 | BG10: -3.6 | BH10: 2.603679 | BI10: -417.59632 | BJ10: =BN10-AT10-AZ10-BF10 -> -418.2 | BK10: =BO10-AU10-BA10-BG10 -> 4.8 | BL10: =BP10-AV10-BB10-BH10 -> 18.366854 | BM10: =SUM(BJ10:BL10) -> -395.03315 | BN10: -1332 | BP10: 33 | BQ10: =SUM(BN10:BP10) -> -1299 | BR10: =AY10+BE10+BI10+BM10 -> -1546.5205 | BT10: ='Matas Group P&L and KPIs'!BP10 -> -399 | BU10: ='Matas Group P&L and KPIs'!BQ10 -> -389 | BV10: ='Matas Group P&L and KPIs'!BR10 -> -451 | BW10: ='Matas Group P&L and KPIs'!BS10 -> -415 | BX10: =SUM(BT10:BW10) -> -1654 | BZ10: ='Matas Group P&L and KPIs'!BV10 -> -422 | CA10: ='Matas Group P&L and KPIs'!BW10 -> -404 | CB10: ='Matas Group P&L and KPIs'!BX10 -> -439 | CC10: ='Matas Group P&L and KPIs'!BY10 -> -381 | CD10: =SUM(BZ10:CC10) -> -1646
B11: Other operating income and expenses, net | G11: =SUM(D11:F11) -> 0 | K11: =SUM(H11:J11) -> 0 | O11: =SUM(L11:N11) -> 0 | S11: =SUM(P11:R11) -> 0 | W11: =SUM(T11:V11) -> 0 | Z11: 2.2 | AB11: =SUM(Y11:AA11) -> 2.2 | AD11: 1.2 | AF11: =SUM(AC11:AE11) -> 1.2 | AH11: -1.6 | AJ11: =SUM(AG11:AI11) -> -1.6 | AL11: 1.1 | AN11: =SUM(AK11:AM11) -> 1.1 | AP11: 2.885578 | AR11: =SUM(AO11:AQ11) -> 2.885578 | AU11: 1 | AW11: 1 | AX11: 3.6567987 | AY11: 4.6567987 | BA11: 2.5 | BC11: 2.5 | BD11: 2.2712 | BE11: 4.7712 | BG11: 6 | BI11: 6 | BJ11: =BN11-AT11-AZ11-BF11 -> 25 | BK11: =BO11-AU11-BA11-BG11 -> -5.5 | BL11: =BP11-AV11-BB11-BH11 -> -10 | BM11: =SUM(BJ11:BL11) -> 9.5 | BN11: 25 | BO11: 4 | BP11: -10 | BQ11: =SUM(BN11:BP11) -> 19 | BR11: =AY11+BE11+BI11+BM11 -> 24.927999 | BT11: ='Matas Group P&L and KPIs'!BP11 -> 5 | BU11: ='Matas Group P&L and KPIs'!BQ11 -> 5 | BV11: ='Matas Group P&L and KPIs'!BR11 -> 5 | BW11: ='Matas Group P&L and KPIs'!BS11 -> 6 | BX11: =SUM(BT11:BW11) -> 21 | BZ11: ='Matas Group P&L and KPIs'!BV11 -> 6 | CA11: ='Matas Group P&L and KPIs'!BW11 -> 5 | CB11: ='Matas Group P&L and KPIs'!BX11 -> 8 | CC11: ='Matas Group P&L and KPIs'!BY11 -> 5 | CD11: =SUM(BZ11:CC11) -> 24
B12: EBITDA before special items | E12: =SUM(E7:E11) -> 0 | F12: =SUM(F7:F11) -> 0 | G12: =SUM(G7:G11) -> 185.7 | I12: =SUM(I7:I11) -> 0 | J12: =SUM(J7:J11) -> 2.616782 | K12: =SUM(K7:K11) -> 165.61678 | M12: =SUM(M7:M11) -> 0 | N12: =SUM(N7:N11) -> -17.433417 | O12: =SUM(O7:O11) -> 283.46658 | Q12: =SUM(Q7:Q11) -> 0 | R12: =SUM(R7:R11) -> 7.816635 | S12: =SUM(S7:S11) -> 167.81664 | U12: =SUM(U7:U11) -> 0 | V12: =SUM(V7:V11) -> -7 | W12: =SUM(W7:W11) -> 802.6 | Z12: 0 | AA12: 4.8 | AB12: =SUM(AB7:AB11) -> 191.5 | AD12: 0 | AE12: 0 | AF12: =SUM(AF7:AF11) -> 160 | AH12: 0 | AI12: 0 | AJ12: =SUM(AJ7:AJ11) -> 295.9 | AL12: 0 | AM12: 0 | AN12: =SUM(AN7:AN11) -> 161.6 | AP12: 0 | AQ12: 4.8 | AR12: =SUM(AR7:AR11) -> 809 | AU12: 0 | AV12: 21.149533 | AW12: 200.94953 | AX12: 68.877241 | AY12: 269.82677 | BA12: 0 | BB12: 39.129467 | BC12: 177.22947 | BD12: 41.4165 | BE12: 218.64597 | BF12: 404.5 | BG12: 0 | BH12: 19.603679 | BI12: 424.10368 | BK12: =SUM(BK7:BK11) -> 0 | BL12: =SUM(BL7:BL11) -> 22.117321 | BM12: =SUM(BM7:BM11) -> 203.71732 | BO12: 0 | BP12: 102 | BQ12: =SUM(BQ7:BQ11) -> 1006 | BR12: =SUM(BR7:BR11) -> 1116.2937 | BT12: =SUM(BT7:BT11) -> 293 | BU12: =SUM(BU7:BU11) -> 233 | BV12: =SUM(BV7:BV11) -> 474 | BW12: =SUM(BW7:BW11) -> 216 | BX12: =SUM(BX7:BX11) -> 1216 | BZ12: =SUM(BZ7:BZ11) -> 302 | CA12: =SUM(CA7:CA11) -> 241 | CB12: =SUM(CB7:CB11) -> 465 | CC12: =SUM(CC7:CC11) -> 226 | CD12: =SUM(CD7:CD11) -> 1234
B14: Special items | F14: 0 | G14: =SUM(D14:F14) -> 0 | J14: -2.616782 | K14: =SUM(H14:J14) -> -2.616782 | N14: 17.433417 | O14: =SUM(L14:N14) -> 17.433417 | R14: -7.816635 | S14: =SUM(P14:R14) -> -7.816635 | V14: 7 | W14: =SUM(T14:V14) -> 7 | AA14: -4.8 | AB14: =SUM(Y14:AA14) -> -4.8 | AE14: 0 | AF14: =SUM(AC14:AE14) -> 0 | AI14: 0 | AJ14: =SUM(AG14:AI14) -> 0 | AM14: 0 | AN14: =SUM(AK14:AM14) -> 0 | AQ14: -4.8 | AR14: =SUM(AO14:AQ14) -> -4.8 | AV14: -21.149533 | AW14: -21.149533 | AY14: -21.149533 | BB14: -39.129467 | BC14: -39.129467 | BE14: -39.129467 | BF14: 0 | BH14: -19.603679 | BI14: -19.603679 | BK14: 0 | BL14: =BP14-AV14-BB14-BH14 -> -22.117321 | BM14: =SUM(BJ14:BL14) -> -22.117321 | BP14: -102 | BQ14: =SUM(BN14:BP14) -> -102 | BR14: =AY14+BE14+BI14+BM14 -> -102 | BT14: ='Matas Group P&L and KPIs'!BP14 -> -17 | BU14: ='Matas Group P&L and KPIs'!BQ14 -> 5 | BV14: ='Matas Group P&L and KPIs'!BR14 -> -1 | BW14: ='Matas Group P&L and KPIs'!BS14 -> -14 | BX14: =SUM(BT14:BW14) -> -27 | BZ14: ='Matas Group P&L and KPIs'!BV14 -> -5 | CA14: ='Matas Group P&L and KPIs'!BW14 -> -11 | CB14: ='Matas Group P&L and KPIs'!BX14 -> -22 | CC14: ='Matas Group P&L and KPIs'!BY14 -> -18 | CD14: =SUM(BZ14:CC14) -> -56
B15: EBITDA | D15: =SUM(D7:D11) -> 185.7 | E15: =SUM(E12:E14) -> 0 | F15: =SUM(F12:F14) -> 0 | G15: =SUM(G12:G14) -> 185.7 | H15: =SUM(H7:H11) -> 163 | I15: =SUM(I12:I14) -> 0 | J15: =SUM(J12:J14) -> 0 | K15: =SUM(K12:K14) -> 163 | L15: =SUM(L7:L11) -> 300.9 | M15: =SUM(M12:M14) -> 0 | N15: =SUM(N12:N14) -> 0 | O15: =SUM(O12:O14) -> 300.9 | P15: =SUM(P7:P11) -> 160 | Q15: =SUM(Q12:Q14) -> 0 | R15: =SUM(R12:R14) -> 0 | S15: =SUM(S12:S14) -> 160 | T15: =SUM(T7:T11) -> 809.6 | U15: =SUM(U12:U14) -> 0 | V15: =SUM(V12:V14) -> 0 | W15: =SUM(W12:W14) -> 809.6 | Y15: 186.7 | Z15: 0 | AA15: 0 | AB15: =SUM(AB12:AB14) -> 186.7 | AC15: 160 | AD15: 0 | AE15: 0 | AF15: =SUM(AF12:AF14) -> 160 | AG15: 295.9 | AH15: 0 | AI15: 0 | AJ15: =SUM(AJ12:AJ14) -> 295.9 | AK15: 161.6 | AL15: 0 | AM15: 0 | AN15: =SUM(AN12:AN14) -> 161.6 | AO15: 804.2 | AP15: 0 | AQ15: 0 | AR15: =SUM(AR12:AR14) -> 804.2 | AT15: 179.8 | AU15: 0 | AV15: 0 | AW15: 179.8 | AX15: 68.877241 | AY15: 248.67724 | AZ15: 138.1 | BA15: 0 | BB15: 0 | BC15: 138.1 | BD15: 41.4165 | BE15: 179.5165 | BF15: 404.5 | BG15: 0 | BH15: 0 | BI15: 404.5 | BJ15: =SUM(BJ7:BJ14) -> 181.6 | BK15: =SUM(BK12:BK14) -> 0 | BL15: =SUM(BL12:BL14) -> 0 | BM15: =SUM(BM12:BM14) -> 181.6 | BN15: 904 | BO15: 0 | BP15: 0 | BQ15: =SUM(BQ12:BQ14) -> 904 | BR15: =SUM(BR12:BR14) -> 1014.2937 | BT15: =SUM(BT12:BT14) -> 276 | BU15: =SUM(BU12:BU14) -> 238 | BV15: =SUM(BV12:BV14) -> 473 | BW15: =SUM(BW12:BW14) -> 202 | BX15: =SUM(BX12:BX14) -> 1189 | BZ15: =SUM(BZ12:BZ14) -> 297 | CA15: =SUM(CA12:CA14) -> 230 | CB15: =SUM(CB12:CB14) -> 443 | CC15: =SUM(CC12:CC14) -> 208 | CD15: =SUM(CD12:CD14) -> 1178
B17: Depreciation, amortisation and impairment | D17: -107.7 | G17: =SUM(D17:F17) -> -107.7 | H17: -106.3 | K17: =SUM(H17:J17) -> -106.3 | L17: -107.2 | O17: =SUM(L17:N17) -> -107.2 | P17: 113.9 | S17: =SUM(P17:R17) -> 113.9 | T17: -421.3 | W17: =SUM(T17:V17) -> -421.3 | Y17: -89.1 | AB17: =SUM(Y17:AA17) -> -89.1 | AC17: -86.7 | AF17: =SUM(AC17:AE17) -> -86.7 | AG17: -94.5 | AJ17: =SUM(AG17:AI17) -> -94.5 | AK17: -110.9 | AN17: =SUM(AK17:AM17) -> -110.9 | AO17: -381.1 | AR17: =SUM(AO17:AQ17) -> -381.1 | AT17: -91.1 | AW17: -91.1 | AX17: -64.216661 | AY17: -155.31666 | AZ17: -113.1 | BC17: -113.1 | BD17: -42.5691 | BE17: -155.6691 | BF17: -155.1 | BI17: -155.1 | BJ17: =BN17-AT17-AZ17-BF17 -> -165.7 | BM17: =SUM(BJ17:BL17) -> -165.7 | BN17: -525 | BQ17: =SUM(BN17:BP17) -> -525 | BR17: =AY17+BE17+BI17+BM17 -> -631.78576 | BT17: ='Matas Group P&L and KPIs'!BP17 -> -158 | BU17: ='Matas Group P&L and KPIs'!BQ17 -> -157 | BV17: ='Matas Group P&L and KPIs'!BR17 -> -156 | BW17: ='Matas Group P&L and KPIs'!BS17 -> -153 | BX17: =SUM(BT17:BW17) -> -624 | BZ17: ='Matas Group P&L and KPIs'!BV17 -> -161 | CA17: ='Matas Group P&L and KPIs'!BW17 -> -160 | CB17: ='Matas Group P&L and KPIs'!BX17 -> -166 | CC17: ='Matas Group P&L and KPIs'!BY17 -> -177 | CD17: =SUM(BZ17:CC17) -> -664
B18: Operating profit/EBIT | D18: =SUM(D15:D17) -> 78 | E18: =SUM(E15:E17) -> 0 | F18: =SUM(F15:F17) -> 0 | G18: =SUM(G15:G17) -> 78 | H18: =SUM(H15:H17) -> 56.7 | I18: =SUM(I15:I17) -> 0 | J18: =SUM(J15:J17) -> 0 | K18: =SUM(K15:K17) -> 56.7 | ... W18: =SUM(W15:W17) -> 388.3 | Y18: 97.6 | Z18: 0 | AA18: 0 | AB18: =SUM(AB15:AB17) -> 97.6 | AC18: 73.3 | AD18: 0 | AE18: 0 | AF18: =SUM(AF15:AF17) -> 73.3 | AG18: 201.4 | AH18: 0 | AI18: 0 | AJ18: =SUM(AJ15:AJ17) -> 201.4 | AK18: 50.7 | AL18: 0 | AM18: 0 | AN18: =SUM(AN15:AN17) -> 50.7 | AO18: 423.1 | AP18: 0 | AQ18: 0 | AR18: =SUM(AR15:AR17) -> 423.1 | AT18: 88.7 | AU18: 0 | AV18: 0 | AW18: 88.7 | AX18: 4.6605792 | AY18: 93.360579 | AZ18: 25 | BA18: 0 | BB18: 0 | BC18: 25 | BD18: -1.1526 | BE18: 23.8474 | BF18: 249.4 | BG18: 0 | BH18: 0 | BI18: 249.4 | BJ18: =SUM(BJ15:BJ17) -> 15.9 | BK18: =SUM(BK15:BK17) -> 0 | BL18: =SUM(BL15:BL17) -> 0 | BM18: =SUM(BM15:BM17) -> 15.9 | BN18: 379 | BO18: 0 | BP18: 0 | BQ18: =SUM(BQ15:BQ17) -> 379 | BR18: =SUM(BR15:BR17) -> 382.50798 | BT18: =SUM(BT15:BT17) -> 118 | BU18: =SUM(BU15:BU17) -> 81 | BV18: =SUM(BV15:BV17) -> 317 | BW18: =SUM(BW15:BW17) -> 49 | BX18: =SUM(BX15:BX17) -> 565 | BZ18: =SUM(BZ15:BZ17) -> 136 | CA18: =SUM(CA15:CA17) -> 70 | CB18: =SUM(CB15:CB17) -> 277 | CC18: =SUM(CC15:CC17) -> 31 | CD18: =SUM(CD15:CD17) -> 514
B20: Share of profit in ass. Companies | D20: -0.05711 | G20: =SUM(D20:F20) -> -0.05711 | H20: -0.119804 | K20: =SUM(H20:J20) -> -0.119804 | L20: -0.029766 | O20: =SUM(L20:N20) -> -0.029766 | P20: -4.216406 | S20: =SUM(P20:R20) -> -4.216406 | T20: -4.6 | W20: =SUM(T20:V20) -> -4.6 | Y20: 0.2 | AB20: =SUM(Y20:AA20) -> 0.2 | AC20: -5.3 | AF20: =SUM(AC20:AE20) -> -5.3 | AG20: 0.2 | AJ20: =SUM(AG20:AI20) -> 0.2 | AK20: 0 | AN20: =SUM(AK20:AM20) -> 0 | AO20: -4.9 | AR20: =SUM(AO20:AQ20) -> -4.9 | AT20: 0.1 | AW20: 0.1 | AY20: 0.1 | AZ20: 0.124336 | BC20: 0.124336 | BE20: 0.124336 | BF20: 0.192198 | BI20: 0.192198 | BJ20: =BN20-AT20-AZ20-BF20 -> 0.583466 | BM20: =SUM(BJ20:BL20) -> 0.583466 | BN20: 1 | BQ20: =SUM(BN20:BP20) -> 1 | BR20: =AY20+BE20+BI20+BM20 -> 1 | BT20: ='Matas Group P&L and KPIs'!BP20 -> 0 | BU20: ='Matas Group P&L and KPIs'!BQ20 -> 0 | BV20: ='Matas Group P&L and KPIs'!BR20 -> 0 | BW20: ='Matas Group P&L and KPIs'!BS20 -> 1 | BX20: =SUM(BT20:BW20) -> 1 | BZ20: ='Matas Group P&L and KPIs'!BV20 -> 0 | CA20: ='Matas Group P&L and KPIs'!BW20 -> 0 | CB20: ='Matas Group P&L and KPIs'!BX20 -> 0 | CC20: ='Matas Group P&L and KPIs'!BY20 -> 1 | CD20: =SUM(BZ20:CC20) -> 1
B21: Financial income | D21: 0.015643 | G21: =SUM(D21:F21) -> 0.015643 | H21: 0.024891 | K21: =SUM(H21:J21) -> 0.024891 | L21: 5.11471 | O21: =SUM(L21:N21) -> 5.11471 | P21: 0.104222 | S21: =SUM(P21:R21) -> 0.104222 | T21: 5.3 | W21: =SUM(T21:V21) -> 5.3 | Y21: 0 | AB21: =SUM(Y21:AA21) -> 0 | AC21: 0 | AF21: =SUM(AC21:AE21) -> 0 | AG21: 0.1 | AJ21: =SUM(AG21:AI21) -> 0.1 | AK21: 0.3 | AN21: =SUM(AK21:AM21) -> 0.3 | AO21: 0.5 | AR21: =SUM(AO21:AQ21) -> 0.5 | AT21: 0 | AW21: 0 | AY21: 0 | AZ21: 2.651862 | BC21: 2.651862 | BE21: 2.651862 | BF21: 4.896197 | BI21: 4.896197 | BJ21: =BN21-AT21-AZ21-BF21 -> 4.451941 | BM21: =SUM(BJ21:BL21) -> 4.451941 | BN21: 12 | BQ21: =SUM(BN21:BP21) -> 12 | BR21: =AY21+BE21+BI21+BM21 -> 12 | BT21: ='Matas Group P&L and KPIs'!BP21 -> 2 | BU21: ='Matas Group P&L and KPIs'!BQ21 -> 0 | BV21: ='Matas Group P&L and KPIs'!BR21 -> 0 | BW21: ='Matas Group P&L and KPIs'!BS21 -> -1 | BX21: =SUM(BT21:BW21) -> 1 | BZ21: ='Matas Group P&L and KPIs'!BV21 -> 0 | CA21: ='Matas Group P&L and KPIs'!BW21 -> 1 | CB21: ='Matas Group P&L and KPIs'!BX21 -> 0 | CC21: ='Matas Group P&L and KPIs'!BY21 -> 4 | CD21: =SUM(BZ21:CC21) -> 5
B22: Financial expenses | D22: -10.5 | G22: =SUM(D22:F22) -> -10.5 | H22: -10.2 | K22: =SUM(H22:J22) -> -10.2 | L22: -9.3 | O22: =SUM(L22:N22) -> -9.3 | P22: 12.8 | S22: =SUM(P22:R22) -> 12.8 | T22: -37.9 | W22: =SUM(T22:V22) -> -37.9 | Y22: -9.2 | AB22: =SUM(Y22:AA22) -> -9.2 | AC22: -8 | AF22: =SUM(AC22:AE22) -> -8 | AG22: -12.9 | AJ22: =SUM(AG22:AI22) -> -12.9 | AK22: -15.8 | AN22: =SUM(AK22:AM22) -> -15.8 | AO22: -45.9 | AR22: =SUM(AO22:AQ22) -> -45.9 | AT22: -23.4 | AW22: -23.4 | AX22: -12.52565 | AY22: -35.92565 | AZ22: -24.2 | BC22: -24.2 | BD22: -5.0214 | BE22: -29.2214 | BF22: -34.4 | BI22: -34.4 | BJ22: =BN22-AT22-AZ22-BF22 -> -62 | BM22: =SUM(BJ22:BL22) -> -62 | BN22: -144 | BQ22: =SUM(BN22:BP22) -> -144 | BR22: =AY22+BE22+BI22+BM22 -> -161.54705 | BT22: ='Matas Group P&L and KPIs'!BP22 -> -44 | BU22: ='Matas Group P&L and KPIs'!BQ22 -> -50 | BV22: ='Matas Group P&L and KPIs'!BR22 -> -51 | BW22: ='Matas Group P&L and KPIs'!BS22 -> -38 | BX22: =SUM(BT22:BW22) -> -183 | BZ22: ='Matas Group P&L and KPIs'!BV22 -> -54 | CA22: ='Matas Group P&L and KPIs'!BW22 -> -40 | CB22: ='Matas Group P&L and KPIs'!BX22 -> -38 | CC22: ='Matas Group P&L and KPIs'!BY22 -> -36 | CD22: =SUM(BZ22:CC22) -> -168
B23: Net financials | D23: -10.541467 | E23: 0 | F23: 0 | G23: =SUM(G20:G22) -> -10.541467 | H23: -10.294913 | I23: 0 | J23: 0 | K23: =SUM(K20:K22) -> -10.294913 | L23: -4.215056 | M23: 0 | N23: 0 | O23: =SUM(O20:O22) -> -4.215056 | P23: 8.687816 | Q23: 0 | R23: 0 | S23: =SUM(S20:S22) -> 8.687816 | T23: -37.2 | U23: 0 | V23: 0 | W23: =SUM(W20:W22) -> -37.2 | Y23: -9 | Z23: 0 | AA23: 0 | AB23: =SUM(AB20:AB22) -> -9 | AC23: -13.3 | AD23: 0 | AE23: 0 | AF23: =SUM(AF20:AF22) -> -13.3 | AG23: -12.6 | AH23: 0 | AI23: 0 | AJ23: =SUM(AJ20:AJ22) -> -12.6 | AK23: -15.5 | AL23: 0 | AM23: 0 | AN23: =SUM(AN20:AN22) -> -15.5 | AO23: -50.3 | AP23: 0 | AQ23: 0 | AR23: =SUM(AR20:AR22) -> -50.3 | AT23: -23.3 | AU23: 0 | AV23: 0 | AW23: -23.3 | AX23: -12.52565 | AY23: -35.82565 | AZ23: -21.423802 | BA23: 0 | BB23: 0 | BC23: -21.423802 | BD23: -5.0214 | BE23: -26.445202 | BF23: -29.311605 | BG23: 0 | BH23: 0 | BI23: -29.311605 | BJ23: =SUM(BJ20:BJ22) -> -56.964593 | BK23: =SUM(BK20:BK22) -> 0 | BL23: =SUM(BL20:BL22) -> 0 | BM23: =SUM(BM20:BM22) -> -56.964593 | BN23: -131 | BO23: 0 | BP23: 0 | BQ23: =SUM(BQ20:BQ22) -> -131 | BR23: =AY23+BE23+BI23+BM23 -> -148.54705 | BT23: =SUM(BT20:BT22) -> -42 | BU23: =SUM(BU20:BU22) -> -50 | BV23: =SUM(BV20:BV22) -> -51 | BW23: =SUM(BW20:BW22) -> -38 | BX23: =SUM(BX20:BX22) -> -181 | BZ23: =SUM(BZ20:BZ22) -> -54 | CA23: =SUM(CA20:CA22) -> -39 | CB23: =SUM(CB20:CB22) -> -38 | CC23: =SUM(CC20:CC22) -> -31 | CD23: =SUM(CD20:CD22) -> -162
B24: Profit before tax | D24: 67.458533 | E24: 0 | F24: 0 | G24: =G18+G23 -> 67.458533 | H24: 46.405087 | I24: 0 | J24: 0 | K24: =K18+K23 -> 46.405087 | L24: 189.48494 | M24: 0 | N24: 0 | O24: =O18+O23 -> 189.48494 | P24: 282.58782 | Q24: 0 | R24: 0 | S24: =S18+S23 -> 282.58782 | T24: 351.1 | U24: 0 | V24: 0 | W24: =W18+W23 -> 351.1 | Y24: 88.6 | Z24: 0 | AA24: 0 | AB24: =AB18+AB23 -> 88.6 | AC24: 60 | AD24: 0 | AE24: 0 | AF24: =AF18+AF23 -> 60 | AG24: 188.8 | AH24: 0 | AI24: 0 | AJ24: =AJ18+AJ23 -> 188.8 | AK24: 35.2 | AL24: 0 | AM24: 0 | AN24: =AN18+AN23 -> 35.2 | AO24: 372.8 | AP24: 0 | AQ24: 0 | AR24: =AR18+AR23 -> 372.8 | AT24: 65.4 | AU24: 0 | AV24: 0 | AW24: 65.4 | AX24: -7.8650708 | AY24: 57.534929 | AZ24: 3.576198 | BA24: 0 | BB24: 0 | BC24: 3.576198 | BD24: -6.174 | BE24: -2.597802 | BF24: 220.0884 | BG24: 0 | BH24: 0 | BI24: 220.08839 | BJ24: =BJ18+BJ23 -> -41.064593 | BK24: =BK18+BK23 -> 0 | BL24: =BL18+BL23 -> 0 | BM24: =BM18+BM23 -> -41.064593 | BN24: 248 | BO24: 0 | BP24: 0 | BQ24: =BQ18+BQ23 -> 248 | BR24: =BR18+BR23 -> 233.96093 | BT24: =BT18+BT23 -> 76 | BU24: =BU18+BU23 -> 31 | BV24: =BV18+BV23 -> 266 | BW24: =BW18+BW23 -> 11 | BX24: =BX18+BX23 -> 384 | BZ24: =BZ18+BZ23 -> 82 | CA24: =CA18+CA23 -> 31 | CB24: =CB18+CB23 -> 239 | CC24: =CC18+CC23 -> 0 | CD24: =CD18+CD23 -> 352
B26: Tax on profit for the period | D26: -13.355 | G26: =SUM(D26:F26) -> -13.355 | H26: -10 | K26: =SUM(H26:J26) -> -10 | L26: -42.8 | O26: =SUM(L26:N26) -> -42.8 | P26: 14.91 | S26: =SUM(P26:R26) -> 14.91 | T26: -74.6 | W26: =SUM(T26:V26) -> -74.6 | Y26: -19.5 | AB26: =SUM(Y26:AA26) -> -19.5 | AC26: -13.3 | AF26: =SUM(AC26:AE26) -> -13.3 | AG26: -41.5 | AJ26: =SUM(AG26:AI26) -> -41.5 | AK26: -17.7 | AN26: =SUM(AK26:AM26) -> -17.7 | AO26: -92.1 | AR26: =SUM(AO26:AQ26) -> -92.1 | AT26: -16.4 | AW26: -16.4 | AX26: =-AX24*0.206 -> 1.6202046 | AY26: =AW26+AX26 -> -14.779795 | AZ26: -2 | BC26: -2 | BD26: =-BD24*0.206 -> 1.271844 | BE26: =BC26+BD26 -> -0.728156 | BF26: -56.9 | BI26: -56.9 | BJ26: =BN26-AT26-AZ26-BF26 -> -3.7 | BM26: =SUM(BJ26:BL26) -> -3.7 | BN26: -79 | BQ26: =SUM(BN26:BP26) -> -79 | BR26: =AY26+BE26+BI26+BM26 -> -76.107951 | BT26: ='Matas Group P&L and KPIs'!BP26 -> -17 | BU26: ='Matas Group P&L and KPIs'!BQ26 -> -7 | BV26: ='Matas Group P&L and KPIs'!BR26 -> -65 | BW26: ='Matas Group P&L and KPIs'!BS26 -> -13 | BX26: =SUM(BT26:BW26) -> -102 | BZ26: ='Matas Group P&L and KPIs'!BV26 -> -18 | CA26: ='Matas Group P&L and KPIs'!BW26 -> -7 | CB26: ='Matas Group P&L and KPIs'!BX26 -> -53 | CC26: ='Matas Group P&L and KPIs'!BY26 -> -31 | CD26: =SUM(BZ26:CC26) -> -109
B27: Profit for the period | D27: 54.103533 | E27: 0 | F27: 0 | G27: =SUM(G24:G26) -> 54.103533 | H27: 36.405087 | I27: 0 | J27: 0 | K27: =SUM(K24:K26) -> 36.405087 | L27: 146.68494 | M27: 0 | N27: 0 | O27: =SUM(O24:O26) -> 146.68494 | P27: 297.49782 | Q27: 0 | R27: 0 | S27: =SUM(S24:S26) -> 297.49782 | T27: 276.5 | U27: 0 | V27: 0 | W27: =SUM(W24:W26) -> 276.5 | Y27: 69.1 | Z27: 0 | AA27: 0 | AB27: =SUM(AB24:AB26) -> 69.1 | AC27: 46.7 | AD27: 0 | AE27: 0 | AF27: =SUM(AF24:AF26) -> 46.7 | AG27: 147.3 | AH27: 0 | AI27: 0 | AJ27: =SUM(AJ24:AJ26) -> 147.3 | AK27: 17.6 | AL27: 0 | AM27: 0 | AN27: =SUM(AN24:AN26) -> 17.5 | AO27: 280.7 | AP27: 0 | AQ27: 0 | AR27: =SUM(AR24:AR26) -> 280.7 | AT27: 49 | AU27: 0 | AV27: 0 | AW27: 49 | AX27: =AX24+AX26 -> -6.2448662 | AY27: =AY24+AY26 -> 42.755134 | AZ27: 1.576198 | BA27: 0 | BB27: 0 | BC27: 1.576198 | BD27: =BD24+BD26 -> -4.902156 | BE27: =BE24+BE26 -> -3.325958 | BF27: 163.1884 | BG27: 0 | BH27: 0 | BI27: 163.18839 | BJ27: =SUM(BJ24:BJ26) -> -44.764593 | BK27: =SUM(BK24:BK26) -> 0 | BL27: =SUM(BL24:BL26) -> 0 | BM27: =SUM(BM24:BM26) -> -44.764593 | BN27: 169 | BO27: 0 | BP27: 0 | BQ27: =SUM(BQ24:BQ26) -> 169 | BR27: =SUM(BR24:BR26) -> 157.85298 | BT27: =SUM(BT24:BT26) -> 59 | BU27: =SUM(BU24:BU26) -> 24 | BV27: =SUM(BV24:BV26) -> 201 | BW27: =SUM(BW24:BW26) -> -2 | BX27: =SUM(BX24:BX26) -> 282 | BZ27: =SUM(BZ24:BZ26) -> 64 | CA27: =SUM(CA24:CA26) -> 24 | CB27: =SUM(CB24:CB26) -> 186 | CC27: =SUM(CC24:CC26) -> -31 | CD27: =SUM(CD24:CD26) -> 243
